BEGIN:VCALENDAR
VERSION:2.0
PRODID:-//Bhakti Marga Nederland - ECPv6.15.20//NONSGML v1.0//EN
CALSCALE:GREGORIAN
METHOD:PUBLISH
X-WR-CALNAME:Bhakti Marga Nederland
X-ORIGINAL-URL:https://bhaktimarga.nl
X-WR-CALDESC:Events for Bhakti Marga Nederland
REFRESH-INTERVAL;VALUE=DURATION:PT1H
X-Robots-Tag:noindex
X-PUBLISHED-TTL:PT1H
BEGIN:VTIMEZONE
TZID:Europe/Amsterdam
BEGIN:DAYLIGHT
TZOFFSETFROM:+0100
TZOFFSETTO:+0200
TZNAME:CEST
DTSTART:20250330T010000
END:DAYLIGHT
BEGIN:STANDARD
TZOFFSETFROM:+0200
TZOFFSETTO:+0100
TZNAME:CET
DTSTART:20251026T010000
END:STANDARD
BEGIN:DAYLIGHT
TZOFFSETFROM:+0100
TZOFFSETTO:+0200
TZNAME:CEST
DTSTART:20260329T010000
END:DAYLIGHT
BEGIN:STANDARD
TZOFFSETFROM:+0200
TZOFFSETTO:+0100
TZNAME:CET
DTSTART:20261025T010000
END:STANDARD
BEGIN:DAYLIGHT
TZOFFSETFROM:+0100
TZOFFSETTO:+0200
TZNAME:CEST
DTSTART:20270328T010000
END:DAYLIGHT
BEGIN:STANDARD
TZOFFSETFROM:+0200
TZOFFSETTO:+0100
TZNAME:CET
DTSTART:20271031T010000
END:STANDARD
END:VTIMEZONE
BEGIN:VEVENT
DTSTART;TZID=Europe/Amsterdam:20260505T190000
DTEND;TZID=Europe/Amsterdam:20260505T192000
DTSTAMP:20260420T144433
CREATED:20251102T202435Z
LAST-MODIFIED:20251102T202520Z
UID:10003946-1778007600-1778008800@bhaktimarga.nl
SUMMARY:BHAGAVAD GITA EXPRESS
DESCRIPTION:Wil je meer informatie\, scan dan de QR code om naar de Telegram chat “Bhagavad Gita Express” te gaan of contacteer Manay Das (contact gegevens hieronder).
URL:https://bhaktimarga.nl/event/bhagavad-gita-express-15-2/2026-05-05/
CATEGORIES:Kennis
ATTACH;FMTTYPE=image/jpeg:https://bhaktimarga.nl/wp-content/uploads/2024/12/Bhagavad-Gita-Express.jpg
END:VEVENT
BEGIN:VEVENT
DTSTART;TZID=Europe/Amsterdam:20260505T190000
DTEND;TZID=Europe/Amsterdam:20260505T210000
DTSTAMP:20260420T144433
CREATED:20260110T182846Z
LAST-MODIFIED:20260202T144301Z
UID:10004581-1778007600-1778014800@bhaktimarga.nl
SUMMARY:STUDIECIRKEL TADATMYA VEDANTA
DESCRIPTION:
URL:https://bhaktimarga.nl/event/studiecirkel-tadatmya-vedanta/2026-05-05/
CATEGORIES:Kennis
ATTACH;FMTTYPE=image/jpeg:https://bhaktimarga.nl/wp-content/uploads/2026/01/BMNL-studycirkel-Tadatmya-vedanta.jpg
END:VEVENT
BEGIN:VEVENT
DTSTART;TZID=Europe/Amsterdam:20260506T190000
DTEND;TZID=Europe/Amsterdam:20260506T193000
DTSTAMP:20260420T144433
CREATED:20251102T203257Z
LAST-MODIFIED:20251102T203332Z
UID:10004227-1778094000-1778095800@bhaktimarga.nl
SUMMARY:SANSKRIT BEOEFENEN
DESCRIPTION:
URL:https://bhaktimarga.nl/event/sanskrit-beoefenen-2/2026-05-06/
CATEGORIES:Kennis
ATTACH;FMTTYPE=image/jpeg:https://bhaktimarga.nl/wp-content/uploads/2025/11/sanskriet-oefenen-online-elke-week.jpg
ORGANIZER;CN="Harishchand":MAILTO:info@bhaktimarga.nl
END:VEVENT
BEGIN:VEVENT
DTSTART;TZID=Europe/Amsterdam:20260512T190000
DTEND;TZID=Europe/Amsterdam:20260512T192000
DTSTAMP:20260420T144433
CREATED:20251102T202435Z
LAST-MODIFIED:20251102T202520Z
UID:10003947-1778612400-1778613600@bhaktimarga.nl
SUMMARY:BHAGAVAD GITA EXPRESS
DESCRIPTION:Wil je meer informatie\, scan dan de QR code om naar de Telegram chat “Bhagavad Gita Express” te gaan of contacteer Manay Das (contact gegevens hieronder).
URL:https://bhaktimarga.nl/event/bhagavad-gita-express-15-2/2026-05-12/
CATEGORIES:Kennis
ATTACH;FMTTYPE=image/jpeg:https://bhaktimarga.nl/wp-content/uploads/2024/12/Bhagavad-Gita-Express.jpg
END:VEVENT
BEGIN:VEVENT
DTSTART;TZID=Europe/Amsterdam:20260513T190000
DTEND;TZID=Europe/Amsterdam:20260513T193000
DTSTAMP:20260420T144433
CREATED:20251102T203257Z
LAST-MODIFIED:20251102T203332Z
UID:10004228-1778698800-1778700600@bhaktimarga.nl
SUMMARY:SANSKRIT BEOEFENEN
DESCRIPTION:
URL:https://bhaktimarga.nl/event/sanskrit-beoefenen-2/2026-05-13/
CATEGORIES:Kennis
ATTACH;FMTTYPE=image/jpeg:https://bhaktimarga.nl/wp-content/uploads/2025/11/sanskriet-oefenen-online-elke-week.jpg
ORGANIZER;CN="Harishchand":MAILTO:info@bhaktimarga.nl
END:VEVENT
BEGIN:VEVENT
DTSTART;TZID=Europe/Amsterdam:20260519T190000
DTEND;TZID=Europe/Amsterdam:20260519T192000
DTSTAMP:20260420T144433
CREATED:20251102T202435Z
LAST-MODIFIED:20251102T202520Z
UID:10003948-1779217200-1779218400@bhaktimarga.nl
SUMMARY:BHAGAVAD GITA EXPRESS
DESCRIPTION:Wil je meer informatie\, scan dan de QR code om naar de Telegram chat “Bhagavad Gita Express” te gaan of contacteer Manay Das (contact gegevens hieronder).
URL:https://bhaktimarga.nl/event/bhagavad-gita-express-15-2/2026-05-19/
CATEGORIES:Kennis
ATTACH;FMTTYPE=image/jpeg:https://bhaktimarga.nl/wp-content/uploads/2024/12/Bhagavad-Gita-Express.jpg
END:VEVENT
BEGIN:VEVENT
DTSTART;TZID=Europe/Amsterdam:20260520T190000
DTEND;TZID=Europe/Amsterdam:20260520T193000
DTSTAMP:20260420T144433
CREATED:20251102T203257Z
LAST-MODIFIED:20251102T203332Z
UID:10004229-1779303600-1779305400@bhaktimarga.nl
SUMMARY:SANSKRIT BEOEFENEN
DESCRIPTION:
URL:https://bhaktimarga.nl/event/sanskrit-beoefenen-2/2026-05-20/
CATEGORIES:Kennis
ATTACH;FMTTYPE=image/jpeg:https://bhaktimarga.nl/wp-content/uploads/2025/11/sanskriet-oefenen-online-elke-week.jpg
ORGANIZER;CN="Harishchand":MAILTO:info@bhaktimarga.nl
END:VEVENT
BEGIN:VEVENT
DTSTART;TZID=Europe/Amsterdam:20260526T190000
DTEND;TZID=Europe/Amsterdam:20260526T192000
DTSTAMP:20260420T144433
CREATED:20251102T202435Z
LAST-MODIFIED:20251102T202520Z
UID:10003949-1779822000-1779823200@bhaktimarga.nl
SUMMARY:BHAGAVAD GITA EXPRESS
DESCRIPTION:Wil je meer informatie\, scan dan de QR code om naar de Telegram chat “Bhagavad Gita Express” te gaan of contacteer Manay Das (contact gegevens hieronder).
URL:https://bhaktimarga.nl/event/bhagavad-gita-express-15-2/2026-05-26/
CATEGORIES:Kennis
ATTACH;FMTTYPE=image/jpeg:https://bhaktimarga.nl/wp-content/uploads/2024/12/Bhagavad-Gita-Express.jpg
END:VEVENT
BEGIN:VEVENT
DTSTART;TZID=Europe/Amsterdam:20260527T190000
DTEND;TZID=Europe/Amsterdam:20260527T193000
DTSTAMP:20260420T144433
CREATED:20251102T203257Z
LAST-MODIFIED:20251102T203332Z
UID:10004230-1779908400-1779910200@bhaktimarga.nl
SUMMARY:SANSKRIT BEOEFENEN
DESCRIPTION:
URL:https://bhaktimarga.nl/event/sanskrit-beoefenen-2/2026-05-27/
CATEGORIES:Kennis
ATTACH;FMTTYPE=image/jpeg:https://bhaktimarga.nl/wp-content/uploads/2025/11/sanskriet-oefenen-online-elke-week.jpg
ORGANIZER;CN="Harishchand":MAILTO:info@bhaktimarga.nl
END:VEVENT
END:VCALENDAR