BEGIN:VCALENDAR
VERSION:2.0
PRODID:-//Bhakti Marga Nederland - ECPv6.15.20//NONSGML v1.0//EN
CALSCALE:GREGORIAN
METHOD:PUBLISH
X-ORIGINAL-URL:https://bhaktimarga.nl
X-WR-CALDESC:Events for Bhakti Marga Nederland
REFRESH-INTERVAL;VALUE=DURATION:PT1H
X-Robots-Tag:noindex
X-PUBLISHED-TTL:PT1H
BEGIN:VTIMEZONE
TZID:Europe/Amsterdam
BEGIN:DAYLIGHT
TZOFFSETFROM:+0100
TZOFFSETTO:+0200
TZNAME:CEST
DTSTART:20250330T010000
END:DAYLIGHT
BEGIN:STANDARD
TZOFFSETFROM:+0200
TZOFFSETTO:+0100
TZNAME:CET
DTSTART:20251026T010000
END:STANDARD
BEGIN:DAYLIGHT
TZOFFSETFROM:+0100
TZOFFSETTO:+0200
TZNAME:CEST
DTSTART:20260329T010000
END:DAYLIGHT
BEGIN:STANDARD
TZOFFSETFROM:+0200
TZOFFSETTO:+0100
TZNAME:CET
DTSTART:20261025T010000
END:STANDARD
BEGIN:DAYLIGHT
TZOFFSETFROM:+0100
TZOFFSETTO:+0200
TZNAME:CEST
DTSTART:20270328T010000
END:DAYLIGHT
BEGIN:STANDARD
TZOFFSETFROM:+0200
TZOFFSETTO:+0100
TZNAME:CET
DTSTART:20271031T010000
END:STANDARD
END:VTIMEZONE
BEGIN:VEVENT
DTSTART;TZID=Europe/Amsterdam:20260421T190000
DTEND;TZID=Europe/Amsterdam:20260421T192000
DTSTAMP:20260420T131504
CREATED:20251102T202435Z
LAST-MODIFIED:20251102T202520Z
UID:10003944-1776798000-1776799200@bhaktimarga.nl
SUMMARY:BHAGAVAD GITA EXPRESS
DESCRIPTION:Wil je meer informatie\, scan dan de QR code om naar de Telegram chat “Bhagavad Gita Express” te gaan of contacteer Manay Das (contact gegevens hieronder).
URL:https://bhaktimarga.nl/event/bhagavad-gita-express-15-2/2026-04-21/
CATEGORIES:Kennis
ATTACH;FMTTYPE=image/jpeg:https://bhaktimarga.nl/wp-content/uploads/2024/12/Bhagavad-Gita-Express.jpg
END:VEVENT
BEGIN:VEVENT
DTSTART;TZID=Europe/Amsterdam:20260422T190000
DTEND;TZID=Europe/Amsterdam:20260422T193000
DTSTAMP:20260420T131505
CREATED:20251102T203257Z
LAST-MODIFIED:20251102T203332Z
UID:10004225-1776884400-1776886200@bhaktimarga.nl
SUMMARY:SANSKRIT BEOEFENEN
DESCRIPTION:
URL:https://bhaktimarga.nl/event/sanskrit-beoefenen-2/2026-04-22/
CATEGORIES:Kennis
ATTACH;FMTTYPE=image/jpeg:https://bhaktimarga.nl/wp-content/uploads/2025/11/sanskriet-oefenen-online-elke-week.jpg
ORGANIZER;CN="Harishchand":MAILTO:info@bhaktimarga.nl
END:VEVENT
BEGIN:VEVENT
DTSTART;TZID=Europe/Amsterdam:20260428T190000
DTEND;TZID=Europe/Amsterdam:20260428T192000
DTSTAMP:20260420T131505
CREATED:20251102T202435Z
LAST-MODIFIED:20251102T202520Z
UID:10003945-1777402800-1777404000@bhaktimarga.nl
SUMMARY:BHAGAVAD GITA EXPRESS
DESCRIPTION:Wil je meer informatie\, scan dan de QR code om naar de Telegram chat “Bhagavad Gita Express” te gaan of contacteer Manay Das (contact gegevens hieronder).
URL:https://bhaktimarga.nl/event/bhagavad-gita-express-15-2/2026-04-28/
CATEGORIES:Kennis
ATTACH;FMTTYPE=image/jpeg:https://bhaktimarga.nl/wp-content/uploads/2024/12/Bhagavad-Gita-Express.jpg
END:VEVENT
BEGIN:VEVENT
DTSTART;TZID=Europe/Amsterdam:20260429T190000
DTEND;TZID=Europe/Amsterdam:20260429T193000
DTSTAMP:20260420T131505
CREATED:20251102T203257Z
LAST-MODIFIED:20251102T203332Z
UID:10004226-1777489200-1777491000@bhaktimarga.nl
SUMMARY:SANSKRIT BEOEFENEN
DESCRIPTION:
URL:https://bhaktimarga.nl/event/sanskrit-beoefenen-2/2026-04-29/
CATEGORIES:Kennis
ATTACH;FMTTYPE=image/jpeg:https://bhaktimarga.nl/wp-content/uploads/2025/11/sanskriet-oefenen-online-elke-week.jpg
ORGANIZER;CN="Harishchand":MAILTO:info@bhaktimarga.nl
END:VEVENT
END:VCALENDAR