BEGIN:VCALENDAR
VERSION:2.0
PRODID:-//Bhakti Marga Nederland - ECPv6.15.20//NONSGML v1.0//EN
CALSCALE:GREGORIAN
METHOD:PUBLISH
X-ORIGINAL-URL:https://bhaktimarga.nl
X-WR-CALDESC:Events for Bhakti Marga Nederland
REFRESH-INTERVAL;VALUE=DURATION:PT1H
X-Robots-Tag:noindex
X-PUBLISHED-TTL:PT1H
BEGIN:VTIMEZONE
TZID:Europe/Amsterdam
BEGIN:DAYLIGHT
TZOFFSETFROM:+0100
TZOFFSETTO:+0200
TZNAME:CEST
DTSTART:20260329T010000
END:DAYLIGHT
BEGIN:STANDARD
TZOFFSETFROM:+0200
TZOFFSETTO:+0100
TZNAME:CET
DTSTART:20261025T010000
END:STANDARD
BEGIN:DAYLIGHT
TZOFFSETFROM:+0100
TZOFFSETTO:+0200
TZNAME:CEST
DTSTART:20270328T010000
END:DAYLIGHT
BEGIN:STANDARD
TZOFFSETFROM:+0200
TZOFFSETTO:+0100
TZNAME:CET
DTSTART:20271031T010000
END:STANDARD
BEGIN:DAYLIGHT
TZOFFSETFROM:+0100
TZOFFSETTO:+0200
TZNAME:CEST
DTSTART:20280326T010000
END:DAYLIGHT
BEGIN:STANDARD
TZOFFSETFROM:+0200
TZOFFSETTO:+0100
TZNAME:CET
DTSTART:20281029T010000
END:STANDARD
END:VTIMEZONE
BEGIN:VEVENT
DTSTART;TZID=Europe/Amsterdam:20270504T190000
DTEND;TZID=Europe/Amsterdam:20270504T192000
DTSTAMP:20260421T013524
CREATED:20251102T202435Z
LAST-MODIFIED:20251102T202520Z
UID:10003998-1809457200-1809458400@bhaktimarga.nl
SUMMARY:BHAGAVAD GITA EXPRESS
DESCRIPTION:Wil je meer informatie\, scan dan de QR code om naar de Telegram chat “Bhagavad Gita Express” te gaan of contacteer Manay Das (contact gegevens hieronder).
URL:https://bhaktimarga.nl/event/bhagavad-gita-express-15-2/2027-05-04/
CATEGORIES:Kennis
ATTACH;FMTTYPE=image/jpeg:https://bhaktimarga.nl/wp-content/uploads/2024/12/Bhagavad-Gita-Express.jpg
END:VEVENT
BEGIN:VEVENT
DTSTART;TZID=Europe/Amsterdam:20270504T190000
DTEND;TZID=Europe/Amsterdam:20270504T210000
DTSTAMP:20260421T013524
CREATED:20260110T182846Z
LAST-MODIFIED:20260202T144301Z
UID:10004593-1809457200-1809464400@bhaktimarga.nl
SUMMARY:STUDIECIRKEL TADATMYA VEDANTA
DESCRIPTION:
URL:https://bhaktimarga.nl/event/studiecirkel-tadatmya-vedanta/2027-05-04/
CATEGORIES:Kennis
ATTACH;FMTTYPE=image/jpeg:https://bhaktimarga.nl/wp-content/uploads/2026/01/BMNL-studycirkel-Tadatmya-vedanta.jpg
END:VEVENT
BEGIN:VEVENT
DTSTART;TZID=Europe/Amsterdam:20270505T190000
DTEND;TZID=Europe/Amsterdam:20270505T193000
DTSTAMP:20260421T013524
CREATED:20251102T203257Z
LAST-MODIFIED:20251102T203332Z
UID:10004279-1809543600-1809545400@bhaktimarga.nl
SUMMARY:SANSKRIT BEOEFENEN
DESCRIPTION:
URL:https://bhaktimarga.nl/event/sanskrit-beoefenen-2/2027-05-05/
CATEGORIES:Kennis
ATTACH;FMTTYPE=image/jpeg:https://bhaktimarga.nl/wp-content/uploads/2025/11/sanskriet-oefenen-online-elke-week.jpg
ORGANIZER;CN="Harishchand":MAILTO:info@bhaktimarga.nl
END:VEVENT
BEGIN:VEVENT
DTSTART;TZID=Europe/Amsterdam:20270511T190000
DTEND;TZID=Europe/Amsterdam:20270511T192000
DTSTAMP:20260421T013524
CREATED:20251102T202435Z
LAST-MODIFIED:20251102T202520Z
UID:10003999-1810062000-1810063200@bhaktimarga.nl
SUMMARY:BHAGAVAD GITA EXPRESS
DESCRIPTION:Wil je meer informatie\, scan dan de QR code om naar de Telegram chat “Bhagavad Gita Express” te gaan of contacteer Manay Das (contact gegevens hieronder).
URL:https://bhaktimarga.nl/event/bhagavad-gita-express-15-2/2027-05-11/
CATEGORIES:Kennis
ATTACH;FMTTYPE=image/jpeg:https://bhaktimarga.nl/wp-content/uploads/2024/12/Bhagavad-Gita-Express.jpg
END:VEVENT
BEGIN:VEVENT
DTSTART;TZID=Europe/Amsterdam:20270512T190000
DTEND;TZID=Europe/Amsterdam:20270512T193000
DTSTAMP:20260421T013524
CREATED:20251102T203257Z
LAST-MODIFIED:20251102T203332Z
UID:10004280-1810148400-1810150200@bhaktimarga.nl
SUMMARY:SANSKRIT BEOEFENEN
DESCRIPTION:
URL:https://bhaktimarga.nl/event/sanskrit-beoefenen-2/2027-05-12/
CATEGORIES:Kennis
ATTACH;FMTTYPE=image/jpeg:https://bhaktimarga.nl/wp-content/uploads/2025/11/sanskriet-oefenen-online-elke-week.jpg
ORGANIZER;CN="Harishchand":MAILTO:info@bhaktimarga.nl
END:VEVENT
BEGIN:VEVENT
DTSTART;TZID=Europe/Amsterdam:20270518T190000
DTEND;TZID=Europe/Amsterdam:20270518T192000
DTSTAMP:20260421T013524
CREATED:20251102T202435Z
LAST-MODIFIED:20251102T202520Z
UID:10004000-1810666800-1810668000@bhaktimarga.nl
SUMMARY:BHAGAVAD GITA EXPRESS
DESCRIPTION:Wil je meer informatie\, scan dan de QR code om naar de Telegram chat “Bhagavad Gita Express” te gaan of contacteer Manay Das (contact gegevens hieronder).
URL:https://bhaktimarga.nl/event/bhagavad-gita-express-15-2/2027-05-18/
CATEGORIES:Kennis
ATTACH;FMTTYPE=image/jpeg:https://bhaktimarga.nl/wp-content/uploads/2024/12/Bhagavad-Gita-Express.jpg
END:VEVENT
BEGIN:VEVENT
DTSTART;TZID=Europe/Amsterdam:20270519T190000
DTEND;TZID=Europe/Amsterdam:20270519T193000
DTSTAMP:20260421T013524
CREATED:20251102T203257Z
LAST-MODIFIED:20251102T203332Z
UID:10004281-1810753200-1810755000@bhaktimarga.nl
SUMMARY:SANSKRIT BEOEFENEN
DESCRIPTION:
URL:https://bhaktimarga.nl/event/sanskrit-beoefenen-2/2027-05-19/
CATEGORIES:Kennis
ATTACH;FMTTYPE=image/jpeg:https://bhaktimarga.nl/wp-content/uploads/2025/11/sanskriet-oefenen-online-elke-week.jpg
ORGANIZER;CN="Harishchand":MAILTO:info@bhaktimarga.nl
END:VEVENT
BEGIN:VEVENT
DTSTART;TZID=Europe/Amsterdam:20270525T190000
DTEND;TZID=Europe/Amsterdam:20270525T192000
DTSTAMP:20260421T013524
CREATED:20251102T202435Z
LAST-MODIFIED:20251102T202520Z
UID:10004001-1811271600-1811272800@bhaktimarga.nl
SUMMARY:BHAGAVAD GITA EXPRESS
DESCRIPTION:Wil je meer informatie\, scan dan de QR code om naar de Telegram chat “Bhagavad Gita Express” te gaan of contacteer Manay Das (contact gegevens hieronder).
URL:https://bhaktimarga.nl/event/bhagavad-gita-express-15-2/2027-05-25/
CATEGORIES:Kennis
ATTACH;FMTTYPE=image/jpeg:https://bhaktimarga.nl/wp-content/uploads/2024/12/Bhagavad-Gita-Express.jpg
END:VEVENT
BEGIN:VEVENT
DTSTART;TZID=Europe/Amsterdam:20270526T190000
DTEND;TZID=Europe/Amsterdam:20270526T193000
DTSTAMP:20260421T013524
CREATED:20251102T203257Z
LAST-MODIFIED:20251102T203332Z
UID:10004282-1811358000-1811359800@bhaktimarga.nl
SUMMARY:SANSKRIT BEOEFENEN
DESCRIPTION:
URL:https://bhaktimarga.nl/event/sanskrit-beoefenen-2/2027-05-26/
CATEGORIES:Kennis
ATTACH;FMTTYPE=image/jpeg:https://bhaktimarga.nl/wp-content/uploads/2025/11/sanskriet-oefenen-online-elke-week.jpg
ORGANIZER;CN="Harishchand":MAILTO:info@bhaktimarga.nl
END:VEVENT
BEGIN:VEVENT
DTSTART;TZID=Europe/Amsterdam:20270601T190000
DTEND;TZID=Europe/Amsterdam:20270601T192000
DTSTAMP:20260421T013524
CREATED:20251102T202435Z
LAST-MODIFIED:20251102T202520Z
UID:10004002-1811876400-1811877600@bhaktimarga.nl
SUMMARY:BHAGAVAD GITA EXPRESS
DESCRIPTION:Wil je meer informatie\, scan dan de QR code om naar de Telegram chat “Bhagavad Gita Express” te gaan of contacteer Manay Das (contact gegevens hieronder).
URL:https://bhaktimarga.nl/event/bhagavad-gita-express-15-2/2027-06-01/
CATEGORIES:Kennis
ATTACH;FMTTYPE=image/jpeg:https://bhaktimarga.nl/wp-content/uploads/2024/12/Bhagavad-Gita-Express.jpg
END:VEVENT
BEGIN:VEVENT
DTSTART;TZID=Europe/Amsterdam:20270601T190000
DTEND;TZID=Europe/Amsterdam:20270601T210000
DTSTAMP:20260421T013524
CREATED:20260110T182846Z
LAST-MODIFIED:20260202T144301Z
UID:10004594-1811876400-1811883600@bhaktimarga.nl
SUMMARY:STUDIECIRKEL TADATMYA VEDANTA
DESCRIPTION:
URL:https://bhaktimarga.nl/event/studiecirkel-tadatmya-vedanta/2027-06-01/
CATEGORIES:Kennis
ATTACH;FMTTYPE=image/jpeg:https://bhaktimarga.nl/wp-content/uploads/2026/01/BMNL-studycirkel-Tadatmya-vedanta.jpg
END:VEVENT
BEGIN:VEVENT
DTSTART;TZID=Europe/Amsterdam:20270602T190000
DTEND;TZID=Europe/Amsterdam:20270602T193000
DTSTAMP:20260421T013524
CREATED:20251102T203257Z
LAST-MODIFIED:20251102T203332Z
UID:10004283-1811962800-1811964600@bhaktimarga.nl
SUMMARY:SANSKRIT BEOEFENEN
DESCRIPTION:
URL:https://bhaktimarga.nl/event/sanskrit-beoefenen-2/2027-06-02/
CATEGORIES:Kennis
ATTACH;FMTTYPE=image/jpeg:https://bhaktimarga.nl/wp-content/uploads/2025/11/sanskriet-oefenen-online-elke-week.jpg
ORGANIZER;CN="Harishchand":MAILTO:info@bhaktimarga.nl
END:VEVENT
BEGIN:VEVENT
DTSTART;TZID=Europe/Amsterdam:20270608T190000
DTEND;TZID=Europe/Amsterdam:20270608T192000
DTSTAMP:20260421T013524
CREATED:20251102T202435Z
LAST-MODIFIED:20251102T202520Z
UID:10004003-1812481200-1812482400@bhaktimarga.nl
SUMMARY:BHAGAVAD GITA EXPRESS
DESCRIPTION:Wil je meer informatie\, scan dan de QR code om naar de Telegram chat “Bhagavad Gita Express” te gaan of contacteer Manay Das (contact gegevens hieronder).
URL:https://bhaktimarga.nl/event/bhagavad-gita-express-15-2/2027-06-08/
CATEGORIES:Kennis
ATTACH;FMTTYPE=image/jpeg:https://bhaktimarga.nl/wp-content/uploads/2024/12/Bhagavad-Gita-Express.jpg
END:VEVENT
BEGIN:VEVENT
DTSTART;TZID=Europe/Amsterdam:20270609T190000
DTEND;TZID=Europe/Amsterdam:20270609T193000
DTSTAMP:20260421T013524
CREATED:20251102T203257Z
LAST-MODIFIED:20251102T203332Z
UID:10004284-1812567600-1812569400@bhaktimarga.nl
SUMMARY:SANSKRIT BEOEFENEN
DESCRIPTION:
URL:https://bhaktimarga.nl/event/sanskrit-beoefenen-2/2027-06-09/
CATEGORIES:Kennis
ATTACH;FMTTYPE=image/jpeg:https://bhaktimarga.nl/wp-content/uploads/2025/11/sanskriet-oefenen-online-elke-week.jpg
ORGANIZER;CN="Harishchand":MAILTO:info@bhaktimarga.nl
END:VEVENT
BEGIN:VEVENT
DTSTART;TZID=Europe/Amsterdam:20270615T190000
DTEND;TZID=Europe/Amsterdam:20270615T192000
DTSTAMP:20260421T013524
CREATED:20251102T202435Z
LAST-MODIFIED:20251102T202520Z
UID:10004004-1813086000-1813087200@bhaktimarga.nl
SUMMARY:BHAGAVAD GITA EXPRESS
DESCRIPTION:Wil je meer informatie\, scan dan de QR code om naar de Telegram chat “Bhagavad Gita Express” te gaan of contacteer Manay Das (contact gegevens hieronder).
URL:https://bhaktimarga.nl/event/bhagavad-gita-express-15-2/2027-06-15/
CATEGORIES:Kennis
ATTACH;FMTTYPE=image/jpeg:https://bhaktimarga.nl/wp-content/uploads/2024/12/Bhagavad-Gita-Express.jpg
END:VEVENT
BEGIN:VEVENT
DTSTART;TZID=Europe/Amsterdam:20270616T190000
DTEND;TZID=Europe/Amsterdam:20270616T193000
DTSTAMP:20260421T013524
CREATED:20251102T203257Z
LAST-MODIFIED:20251102T203332Z
UID:10004285-1813172400-1813174200@bhaktimarga.nl
SUMMARY:SANSKRIT BEOEFENEN
DESCRIPTION:
URL:https://bhaktimarga.nl/event/sanskrit-beoefenen-2/2027-06-16/
CATEGORIES:Kennis
ATTACH;FMTTYPE=image/jpeg:https://bhaktimarga.nl/wp-content/uploads/2025/11/sanskriet-oefenen-online-elke-week.jpg
ORGANIZER;CN="Harishchand":MAILTO:info@bhaktimarga.nl
END:VEVENT
BEGIN:VEVENT
DTSTART;TZID=Europe/Amsterdam:20270622T190000
DTEND;TZID=Europe/Amsterdam:20270622T192000
DTSTAMP:20260421T013524
CREATED:20251102T202435Z
LAST-MODIFIED:20251102T202520Z
UID:10004005-1813690800-1813692000@bhaktimarga.nl
SUMMARY:BHAGAVAD GITA EXPRESS
DESCRIPTION:Wil je meer informatie\, scan dan de QR code om naar de Telegram chat “Bhagavad Gita Express” te gaan of contacteer Manay Das (contact gegevens hieronder).
URL:https://bhaktimarga.nl/event/bhagavad-gita-express-15-2/2027-06-22/
CATEGORIES:Kennis
ATTACH;FMTTYPE=image/jpeg:https://bhaktimarga.nl/wp-content/uploads/2024/12/Bhagavad-Gita-Express.jpg
END:VEVENT
BEGIN:VEVENT
DTSTART;TZID=Europe/Amsterdam:20270623T190000
DTEND;TZID=Europe/Amsterdam:20270623T193000
DTSTAMP:20260421T013524
CREATED:20251102T203257Z
LAST-MODIFIED:20251102T203332Z
UID:10004286-1813777200-1813779000@bhaktimarga.nl
SUMMARY:SANSKRIT BEOEFENEN
DESCRIPTION:
URL:https://bhaktimarga.nl/event/sanskrit-beoefenen-2/2027-06-23/
CATEGORIES:Kennis
ATTACH;FMTTYPE=image/jpeg:https://bhaktimarga.nl/wp-content/uploads/2025/11/sanskriet-oefenen-online-elke-week.jpg
ORGANIZER;CN="Harishchand":MAILTO:info@bhaktimarga.nl
END:VEVENT
BEGIN:VEVENT
DTSTART;TZID=Europe/Amsterdam:20270629T190000
DTEND;TZID=Europe/Amsterdam:20270629T192000
DTSTAMP:20260421T013524
CREATED:20251102T202435Z
LAST-MODIFIED:20251102T202520Z
UID:10004006-1814295600-1814296800@bhaktimarga.nl
SUMMARY:BHAGAVAD GITA EXPRESS
DESCRIPTION:Wil je meer informatie\, scan dan de QR code om naar de Telegram chat “Bhagavad Gita Express” te gaan of contacteer Manay Das (contact gegevens hieronder).
URL:https://bhaktimarga.nl/event/bhagavad-gita-express-15-2/2027-06-29/
CATEGORIES:Kennis
ATTACH;FMTTYPE=image/jpeg:https://bhaktimarga.nl/wp-content/uploads/2024/12/Bhagavad-Gita-Express.jpg
END:VEVENT
BEGIN:VEVENT
DTSTART;TZID=Europe/Amsterdam:20270630T190000
DTEND;TZID=Europe/Amsterdam:20270630T193000
DTSTAMP:20260421T013524
CREATED:20251102T203257Z
LAST-MODIFIED:20251102T203332Z
UID:10004287-1814382000-1814383800@bhaktimarga.nl
SUMMARY:SANSKRIT BEOEFENEN
DESCRIPTION:
URL:https://bhaktimarga.nl/event/sanskrit-beoefenen-2/2027-06-30/
CATEGORIES:Kennis
ATTACH;FMTTYPE=image/jpeg:https://bhaktimarga.nl/wp-content/uploads/2025/11/sanskriet-oefenen-online-elke-week.jpg
ORGANIZER;CN="Harishchand":MAILTO:info@bhaktimarga.nl
END:VEVENT
BEGIN:VEVENT
DTSTART;TZID=Europe/Amsterdam:20270706T190000
DTEND;TZID=Europe/Amsterdam:20270706T192000
DTSTAMP:20260421T013524
CREATED:20251102T202435Z
LAST-MODIFIED:20251102T202520Z
UID:10004007-1814900400-1814901600@bhaktimarga.nl
SUMMARY:BHAGAVAD GITA EXPRESS
DESCRIPTION:Wil je meer informatie\, scan dan de QR code om naar de Telegram chat “Bhagavad Gita Express” te gaan of contacteer Manay Das (contact gegevens hieronder).
URL:https://bhaktimarga.nl/event/bhagavad-gita-express-15-2/2027-07-06/
CATEGORIES:Kennis
ATTACH;FMTTYPE=image/jpeg:https://bhaktimarga.nl/wp-content/uploads/2024/12/Bhagavad-Gita-Express.jpg
END:VEVENT
BEGIN:VEVENT
DTSTART;TZID=Europe/Amsterdam:20270706T190000
DTEND;TZID=Europe/Amsterdam:20270706T210000
DTSTAMP:20260421T013524
CREATED:20260110T182846Z
LAST-MODIFIED:20260202T144301Z
UID:10004595-1814900400-1814907600@bhaktimarga.nl
SUMMARY:STUDIECIRKEL TADATMYA VEDANTA
DESCRIPTION:
URL:https://bhaktimarga.nl/event/studiecirkel-tadatmya-vedanta/2027-07-06/
CATEGORIES:Kennis
ATTACH;FMTTYPE=image/jpeg:https://bhaktimarga.nl/wp-content/uploads/2026/01/BMNL-studycirkel-Tadatmya-vedanta.jpg
END:VEVENT
BEGIN:VEVENT
DTSTART;TZID=Europe/Amsterdam:20270707T190000
DTEND;TZID=Europe/Amsterdam:20270707T193000
DTSTAMP:20260421T013524
CREATED:20251102T203257Z
LAST-MODIFIED:20251102T203332Z
UID:10004288-1814986800-1814988600@bhaktimarga.nl
SUMMARY:SANSKRIT BEOEFENEN
DESCRIPTION:
URL:https://bhaktimarga.nl/event/sanskrit-beoefenen-2/2027-07-07/
CATEGORIES:Kennis
ATTACH;FMTTYPE=image/jpeg:https://bhaktimarga.nl/wp-content/uploads/2025/11/sanskriet-oefenen-online-elke-week.jpg
ORGANIZER;CN="Harishchand":MAILTO:info@bhaktimarga.nl
END:VEVENT
BEGIN:VEVENT
DTSTART;TZID=Europe/Amsterdam:20270713T190000
DTEND;TZID=Europe/Amsterdam:20270713T192000
DTSTAMP:20260421T013524
CREATED:20251102T202435Z
LAST-MODIFIED:20251102T202520Z
UID:10004008-1815505200-1815506400@bhaktimarga.nl
SUMMARY:BHAGAVAD GITA EXPRESS
DESCRIPTION:Wil je meer informatie\, scan dan de QR code om naar de Telegram chat “Bhagavad Gita Express” te gaan of contacteer Manay Das (contact gegevens hieronder).
URL:https://bhaktimarga.nl/event/bhagavad-gita-express-15-2/2027-07-13/
CATEGORIES:Kennis
ATTACH;FMTTYPE=image/jpeg:https://bhaktimarga.nl/wp-content/uploads/2024/12/Bhagavad-Gita-Express.jpg
END:VEVENT
BEGIN:VEVENT
DTSTART;TZID=Europe/Amsterdam:20270714T190000
DTEND;TZID=Europe/Amsterdam:20270714T193000
DTSTAMP:20260421T013524
CREATED:20251102T203257Z
LAST-MODIFIED:20251102T203332Z
UID:10004289-1815591600-1815593400@bhaktimarga.nl
SUMMARY:SANSKRIT BEOEFENEN
DESCRIPTION:
URL:https://bhaktimarga.nl/event/sanskrit-beoefenen-2/2027-07-14/
CATEGORIES:Kennis
ATTACH;FMTTYPE=image/jpeg:https://bhaktimarga.nl/wp-content/uploads/2025/11/sanskriet-oefenen-online-elke-week.jpg
ORGANIZER;CN="Harishchand":MAILTO:info@bhaktimarga.nl
END:VEVENT
BEGIN:VEVENT
DTSTART;TZID=Europe/Amsterdam:20270720T190000
DTEND;TZID=Europe/Amsterdam:20270720T192000
DTSTAMP:20260421T013524
CREATED:20251102T202435Z
LAST-MODIFIED:20251102T202520Z
UID:10004009-1816110000-1816111200@bhaktimarga.nl
SUMMARY:BHAGAVAD GITA EXPRESS
DESCRIPTION:Wil je meer informatie\, scan dan de QR code om naar de Telegram chat “Bhagavad Gita Express” te gaan of contacteer Manay Das (contact gegevens hieronder).
URL:https://bhaktimarga.nl/event/bhagavad-gita-express-15-2/2027-07-20/
CATEGORIES:Kennis
ATTACH;FMTTYPE=image/jpeg:https://bhaktimarga.nl/wp-content/uploads/2024/12/Bhagavad-Gita-Express.jpg
END:VEVENT
BEGIN:VEVENT
DTSTART;TZID=Europe/Amsterdam:20270721T190000
DTEND;TZID=Europe/Amsterdam:20270721T193000
DTSTAMP:20260421T013524
CREATED:20251102T203257Z
LAST-MODIFIED:20251102T203332Z
UID:10004290-1816196400-1816198200@bhaktimarga.nl
SUMMARY:SANSKRIT BEOEFENEN
DESCRIPTION:
URL:https://bhaktimarga.nl/event/sanskrit-beoefenen-2/2027-07-21/
CATEGORIES:Kennis
ATTACH;FMTTYPE=image/jpeg:https://bhaktimarga.nl/wp-content/uploads/2025/11/sanskriet-oefenen-online-elke-week.jpg
ORGANIZER;CN="Harishchand":MAILTO:info@bhaktimarga.nl
END:VEVENT
BEGIN:VEVENT
DTSTART;TZID=Europe/Amsterdam:20270727T190000
DTEND;TZID=Europe/Amsterdam:20270727T192000
DTSTAMP:20260421T013524
CREATED:20251102T202435Z
LAST-MODIFIED:20251102T202520Z
UID:10004010-1816714800-1816716000@bhaktimarga.nl
SUMMARY:BHAGAVAD GITA EXPRESS
DESCRIPTION:Wil je meer informatie\, scan dan de QR code om naar de Telegram chat “Bhagavad Gita Express” te gaan of contacteer Manay Das (contact gegevens hieronder).
URL:https://bhaktimarga.nl/event/bhagavad-gita-express-15-2/2027-07-27/
CATEGORIES:Kennis
ATTACH;FMTTYPE=image/jpeg:https://bhaktimarga.nl/wp-content/uploads/2024/12/Bhagavad-Gita-Express.jpg
END:VEVENT
BEGIN:VEVENT
DTSTART;TZID=Europe/Amsterdam:20270728T190000
DTEND;TZID=Europe/Amsterdam:20270728T193000
DTSTAMP:20260421T013524
CREATED:20251102T203257Z
LAST-MODIFIED:20251102T203332Z
UID:10004291-1816801200-1816803000@bhaktimarga.nl
SUMMARY:SANSKRIT BEOEFENEN
DESCRIPTION:
URL:https://bhaktimarga.nl/event/sanskrit-beoefenen-2/2027-07-28/
CATEGORIES:Kennis
ATTACH;FMTTYPE=image/jpeg:https://bhaktimarga.nl/wp-content/uploads/2025/11/sanskriet-oefenen-online-elke-week.jpg
ORGANIZER;CN="Harishchand":MAILTO:info@bhaktimarga.nl
END:VEVENT
BEGIN:VEVENT
DTSTART;TZID=Europe/Amsterdam:20270803T190000
DTEND;TZID=Europe/Amsterdam:20270803T192000
DTSTAMP:20260421T013524
CREATED:20251102T202435Z
LAST-MODIFIED:20251102T202520Z
UID:10004011-1817319600-1817320800@bhaktimarga.nl
SUMMARY:BHAGAVAD GITA EXPRESS
DESCRIPTION:Wil je meer informatie\, scan dan de QR code om naar de Telegram chat “Bhagavad Gita Express” te gaan of contacteer Manay Das (contact gegevens hieronder).
URL:https://bhaktimarga.nl/event/bhagavad-gita-express-15-2/2027-08-03/
CATEGORIES:Kennis
ATTACH;FMTTYPE=image/jpeg:https://bhaktimarga.nl/wp-content/uploads/2024/12/Bhagavad-Gita-Express.jpg
END:VEVENT
END:VCALENDAR