BEGIN:VCALENDAR
VERSION:2.0
PRODID:-//Bhakti Marga Nederland - ECPv6.15.20//NONSGML v1.0//EN
CALSCALE:GREGORIAN
METHOD:PUBLISH
X-ORIGINAL-URL:https://bhaktimarga.nl
X-WR-CALDESC:Events for Bhakti Marga Nederland
REFRESH-INTERVAL;VALUE=DURATION:PT1H
X-Robots-Tag:noindex
X-PUBLISHED-TTL:PT1H
BEGIN:VTIMEZONE
TZID:Europe/Amsterdam
BEGIN:DAYLIGHT
TZOFFSETFROM:+0100
TZOFFSETTO:+0200
TZNAME:CEST
DTSTART:20260329T010000
END:DAYLIGHT
BEGIN:STANDARD
TZOFFSETFROM:+0200
TZOFFSETTO:+0100
TZNAME:CET
DTSTART:20261025T010000
END:STANDARD
BEGIN:DAYLIGHT
TZOFFSETFROM:+0100
TZOFFSETTO:+0200
TZNAME:CEST
DTSTART:20270328T010000
END:DAYLIGHT
BEGIN:STANDARD
TZOFFSETFROM:+0200
TZOFFSETTO:+0100
TZNAME:CET
DTSTART:20271031T010000
END:STANDARD
BEGIN:DAYLIGHT
TZOFFSETFROM:+0100
TZOFFSETTO:+0200
TZNAME:CEST
DTSTART:20280326T010000
END:DAYLIGHT
BEGIN:STANDARD
TZOFFSETFROM:+0200
TZOFFSETTO:+0100
TZNAME:CET
DTSTART:20281029T010000
END:STANDARD
BEGIN:DAYLIGHT
TZOFFSETFROM:+0100
TZOFFSETTO:+0200
TZNAME:CEST
DTSTART:20290325T010000
END:DAYLIGHT
BEGIN:STANDARD
TZOFFSETFROM:+0200
TZOFFSETTO:+0100
TZNAME:CET
DTSTART:20291028T010000
END:STANDARD
END:VTIMEZONE
BEGIN:VEVENT
DTSTART;TZID=Europe/Amsterdam:20271214T190000
DTEND;TZID=Europe/Amsterdam:20271214T192000
DTSTAMP:20260421T110436
CREATED:20251102T202435Z
LAST-MODIFIED:20251102T202520Z
UID:10004030-1828810800-1828812000@bhaktimarga.nl
SUMMARY:BHAGAVAD GITA EXPRESS
DESCRIPTION:Wil je meer informatie\, scan dan de QR code om naar de Telegram chat “Bhagavad Gita Express” te gaan of contacteer Manay Das (contact gegevens hieronder).
URL:https://bhaktimarga.nl/event/bhagavad-gita-express-15-2/2027-12-14/
CATEGORIES:Kennis
ATTACH;FMTTYPE=image/jpeg:https://bhaktimarga.nl/wp-content/uploads/2024/12/Bhagavad-Gita-Express.jpg
END:VEVENT
BEGIN:VEVENT
DTSTART;TZID=Europe/Amsterdam:20271215T190000
DTEND;TZID=Europe/Amsterdam:20271215T193000
DTSTAMP:20260421T110436
CREATED:20251102T203257Z
LAST-MODIFIED:20251102T203332Z
UID:10004311-1828897200-1828899000@bhaktimarga.nl
SUMMARY:SANSKRIT BEOEFENEN
DESCRIPTION:
URL:https://bhaktimarga.nl/event/sanskrit-beoefenen-2/2027-12-15/
CATEGORIES:Kennis
ATTACH;FMTTYPE=image/jpeg:https://bhaktimarga.nl/wp-content/uploads/2025/11/sanskriet-oefenen-online-elke-week.jpg
ORGANIZER;CN="Harishchand":MAILTO:info@bhaktimarga.nl
END:VEVENT
BEGIN:VEVENT
DTSTART;TZID=Europe/Amsterdam:20271221T190000
DTEND;TZID=Europe/Amsterdam:20271221T192000
DTSTAMP:20260421T110436
CREATED:20251102T202435Z
LAST-MODIFIED:20251102T202520Z
UID:10004031-1829415600-1829416800@bhaktimarga.nl
SUMMARY:BHAGAVAD GITA EXPRESS
DESCRIPTION:Wil je meer informatie\, scan dan de QR code om naar de Telegram chat “Bhagavad Gita Express” te gaan of contacteer Manay Das (contact gegevens hieronder).
URL:https://bhaktimarga.nl/event/bhagavad-gita-express-15-2/2027-12-21/
CATEGORIES:Kennis
ATTACH;FMTTYPE=image/jpeg:https://bhaktimarga.nl/wp-content/uploads/2024/12/Bhagavad-Gita-Express.jpg
END:VEVENT
BEGIN:VEVENT
DTSTART;TZID=Europe/Amsterdam:20271222T190000
DTEND;TZID=Europe/Amsterdam:20271222T193000
DTSTAMP:20260421T110436
CREATED:20251102T203257Z
LAST-MODIFIED:20251102T203332Z
UID:10004312-1829502000-1829503800@bhaktimarga.nl
SUMMARY:SANSKRIT BEOEFENEN
DESCRIPTION:
URL:https://bhaktimarga.nl/event/sanskrit-beoefenen-2/2027-12-22/
CATEGORIES:Kennis
ATTACH;FMTTYPE=image/jpeg:https://bhaktimarga.nl/wp-content/uploads/2025/11/sanskriet-oefenen-online-elke-week.jpg
ORGANIZER;CN="Harishchand":MAILTO:info@bhaktimarga.nl
END:VEVENT
BEGIN:VEVENT
DTSTART;TZID=Europe/Amsterdam:20271228T190000
DTEND;TZID=Europe/Amsterdam:20271228T192000
DTSTAMP:20260421T110436
CREATED:20251102T202435Z
LAST-MODIFIED:20251102T202520Z
UID:10004032-1830020400-1830021600@bhaktimarga.nl
SUMMARY:BHAGAVAD GITA EXPRESS
DESCRIPTION:Wil je meer informatie\, scan dan de QR code om naar de Telegram chat “Bhagavad Gita Express” te gaan of contacteer Manay Das (contact gegevens hieronder).
URL:https://bhaktimarga.nl/event/bhagavad-gita-express-15-2/2027-12-28/
CATEGORIES:Kennis
ATTACH;FMTTYPE=image/jpeg:https://bhaktimarga.nl/wp-content/uploads/2024/12/Bhagavad-Gita-Express.jpg
END:VEVENT
BEGIN:VEVENT
DTSTART;TZID=Europe/Amsterdam:20271229T190000
DTEND;TZID=Europe/Amsterdam:20271229T193000
DTSTAMP:20260421T110436
CREATED:20251102T203257Z
LAST-MODIFIED:20251102T203332Z
UID:10004313-1830106800-1830108600@bhaktimarga.nl
SUMMARY:SANSKRIT BEOEFENEN
DESCRIPTION:
URL:https://bhaktimarga.nl/event/sanskrit-beoefenen-2/2027-12-29/
CATEGORIES:Kennis
ATTACH;FMTTYPE=image/jpeg:https://bhaktimarga.nl/wp-content/uploads/2025/11/sanskriet-oefenen-online-elke-week.jpg
ORGANIZER;CN="Harishchand":MAILTO:info@bhaktimarga.nl
END:VEVENT
BEGIN:VEVENT
DTSTART;TZID=Europe/Amsterdam:20280104T190000
DTEND;TZID=Europe/Amsterdam:20280104T192000
DTSTAMP:20260421T110436
CREATED:20251102T202435Z
LAST-MODIFIED:20251102T202520Z
UID:10004033-1830625200-1830626400@bhaktimarga.nl
SUMMARY:BHAGAVAD GITA EXPRESS
DESCRIPTION:Wil je meer informatie\, scan dan de QR code om naar de Telegram chat “Bhagavad Gita Express” te gaan of contacteer Manay Das (contact gegevens hieronder).
URL:https://bhaktimarga.nl/event/bhagavad-gita-express-15-2/2028-01-04/
CATEGORIES:Kennis
ATTACH;FMTTYPE=image/jpeg:https://bhaktimarga.nl/wp-content/uploads/2024/12/Bhagavad-Gita-Express.jpg
END:VEVENT
BEGIN:VEVENT
DTSTART;TZID=Europe/Amsterdam:20280104T190000
DTEND;TZID=Europe/Amsterdam:20280104T210000
DTSTAMP:20260421T110436
CREATED:20260110T182846Z
LAST-MODIFIED:20260202T144301Z
UID:10004601-1830625200-1830632400@bhaktimarga.nl
SUMMARY:STUDIECIRKEL TADATMYA VEDANTA
DESCRIPTION:
URL:https://bhaktimarga.nl/event/studiecirkel-tadatmya-vedanta/2028-01-04/
CATEGORIES:Kennis
ATTACH;FMTTYPE=image/jpeg:https://bhaktimarga.nl/wp-content/uploads/2026/01/BMNL-studycirkel-Tadatmya-vedanta.jpg
END:VEVENT
BEGIN:VEVENT
DTSTART;TZID=Europe/Amsterdam:20280105T190000
DTEND;TZID=Europe/Amsterdam:20280105T193000
DTSTAMP:20260421T110436
CREATED:20251102T203257Z
LAST-MODIFIED:20251102T203332Z
UID:10004314-1830711600-1830713400@bhaktimarga.nl
SUMMARY:SANSKRIT BEOEFENEN
DESCRIPTION:
URL:https://bhaktimarga.nl/event/sanskrit-beoefenen-2/2028-01-05/
CATEGORIES:Kennis
ATTACH;FMTTYPE=image/jpeg:https://bhaktimarga.nl/wp-content/uploads/2025/11/sanskriet-oefenen-online-elke-week.jpg
ORGANIZER;CN="Harishchand":MAILTO:info@bhaktimarga.nl
END:VEVENT
BEGIN:VEVENT
DTSTART;TZID=Europe/Amsterdam:20280111T190000
DTEND;TZID=Europe/Amsterdam:20280111T192000
DTSTAMP:20260421T110436
CREATED:20251102T202435Z
LAST-MODIFIED:20251102T202520Z
UID:10004034-1831230000-1831231200@bhaktimarga.nl
SUMMARY:BHAGAVAD GITA EXPRESS
DESCRIPTION:Wil je meer informatie\, scan dan de QR code om naar de Telegram chat “Bhagavad Gita Express” te gaan of contacteer Manay Das (contact gegevens hieronder).
URL:https://bhaktimarga.nl/event/bhagavad-gita-express-15-2/2028-01-11/
CATEGORIES:Kennis
ATTACH;FMTTYPE=image/jpeg:https://bhaktimarga.nl/wp-content/uploads/2024/12/Bhagavad-Gita-Express.jpg
END:VEVENT
BEGIN:VEVENT
DTSTART;TZID=Europe/Amsterdam:20280112T190000
DTEND;TZID=Europe/Amsterdam:20280112T193000
DTSTAMP:20260421T110436
CREATED:20251102T203257Z
LAST-MODIFIED:20251102T203332Z
UID:10004315-1831316400-1831318200@bhaktimarga.nl
SUMMARY:SANSKRIT BEOEFENEN
DESCRIPTION:
URL:https://bhaktimarga.nl/event/sanskrit-beoefenen-2/2028-01-12/
CATEGORIES:Kennis
ATTACH;FMTTYPE=image/jpeg:https://bhaktimarga.nl/wp-content/uploads/2025/11/sanskriet-oefenen-online-elke-week.jpg
ORGANIZER;CN="Harishchand":MAILTO:info@bhaktimarga.nl
END:VEVENT
BEGIN:VEVENT
DTSTART;TZID=Europe/Amsterdam:20280118T190000
DTEND;TZID=Europe/Amsterdam:20280118T192000
DTSTAMP:20260421T110436
CREATED:20251102T202435Z
LAST-MODIFIED:20251102T202520Z
UID:10004035-1831834800-1831836000@bhaktimarga.nl
SUMMARY:BHAGAVAD GITA EXPRESS
DESCRIPTION:Wil je meer informatie\, scan dan de QR code om naar de Telegram chat “Bhagavad Gita Express” te gaan of contacteer Manay Das (contact gegevens hieronder).
URL:https://bhaktimarga.nl/event/bhagavad-gita-express-15-2/2028-01-18/
CATEGORIES:Kennis
ATTACH;FMTTYPE=image/jpeg:https://bhaktimarga.nl/wp-content/uploads/2024/12/Bhagavad-Gita-Express.jpg
END:VEVENT
BEGIN:VEVENT
DTSTART;TZID=Europe/Amsterdam:20280119T190000
DTEND;TZID=Europe/Amsterdam:20280119T193000
DTSTAMP:20260421T110436
CREATED:20251102T203257Z
LAST-MODIFIED:20251102T203332Z
UID:10004316-1831921200-1831923000@bhaktimarga.nl
SUMMARY:SANSKRIT BEOEFENEN
DESCRIPTION:
URL:https://bhaktimarga.nl/event/sanskrit-beoefenen-2/2028-01-19/
CATEGORIES:Kennis
ATTACH;FMTTYPE=image/jpeg:https://bhaktimarga.nl/wp-content/uploads/2025/11/sanskriet-oefenen-online-elke-week.jpg
ORGANIZER;CN="Harishchand":MAILTO:info@bhaktimarga.nl
END:VEVENT
BEGIN:VEVENT
DTSTART;TZID=Europe/Amsterdam:20280125T190000
DTEND;TZID=Europe/Amsterdam:20280125T192000
DTSTAMP:20260421T110436
CREATED:20251102T202435Z
LAST-MODIFIED:20251102T202520Z
UID:10004036-1832439600-1832440800@bhaktimarga.nl
SUMMARY:BHAGAVAD GITA EXPRESS
DESCRIPTION:Wil je meer informatie\, scan dan de QR code om naar de Telegram chat “Bhagavad Gita Express” te gaan of contacteer Manay Das (contact gegevens hieronder).
URL:https://bhaktimarga.nl/event/bhagavad-gita-express-15-2/2028-01-25/
CATEGORIES:Kennis
ATTACH;FMTTYPE=image/jpeg:https://bhaktimarga.nl/wp-content/uploads/2024/12/Bhagavad-Gita-Express.jpg
END:VEVENT
BEGIN:VEVENT
DTSTART;TZID=Europe/Amsterdam:20280126T190000
DTEND;TZID=Europe/Amsterdam:20280126T193000
DTSTAMP:20260421T110436
CREATED:20251102T203257Z
LAST-MODIFIED:20251102T203332Z
UID:10004317-1832526000-1832527800@bhaktimarga.nl
SUMMARY:SANSKRIT BEOEFENEN
DESCRIPTION:
URL:https://bhaktimarga.nl/event/sanskrit-beoefenen-2/2028-01-26/
CATEGORIES:Kennis
ATTACH;FMTTYPE=image/jpeg:https://bhaktimarga.nl/wp-content/uploads/2025/11/sanskriet-oefenen-online-elke-week.jpg
ORGANIZER;CN="Harishchand":MAILTO:info@bhaktimarga.nl
END:VEVENT
BEGIN:VEVENT
DTSTART;TZID=Europe/Amsterdam:20280201T190000
DTEND;TZID=Europe/Amsterdam:20280201T192000
DTSTAMP:20260421T110436
CREATED:20251102T202435Z
LAST-MODIFIED:20251102T202520Z
UID:10004037-1833044400-1833045600@bhaktimarga.nl
SUMMARY:BHAGAVAD GITA EXPRESS
DESCRIPTION:Wil je meer informatie\, scan dan de QR code om naar de Telegram chat “Bhagavad Gita Express” te gaan of contacteer Manay Das (contact gegevens hieronder).
URL:https://bhaktimarga.nl/event/bhagavad-gita-express-15-2/2028-02-01/
CATEGORIES:Kennis
ATTACH;FMTTYPE=image/jpeg:https://bhaktimarga.nl/wp-content/uploads/2024/12/Bhagavad-Gita-Express.jpg
END:VEVENT
BEGIN:VEVENT
DTSTART;TZID=Europe/Amsterdam:20280201T190000
DTEND;TZID=Europe/Amsterdam:20280201T210000
DTSTAMP:20260421T110436
CREATED:20260110T182846Z
LAST-MODIFIED:20260202T144301Z
UID:10004602-1833044400-1833051600@bhaktimarga.nl
SUMMARY:STUDIECIRKEL TADATMYA VEDANTA
DESCRIPTION:
URL:https://bhaktimarga.nl/event/studiecirkel-tadatmya-vedanta/2028-02-01/
CATEGORIES:Kennis
ATTACH;FMTTYPE=image/jpeg:https://bhaktimarga.nl/wp-content/uploads/2026/01/BMNL-studycirkel-Tadatmya-vedanta.jpg
END:VEVENT
BEGIN:VEVENT
DTSTART;TZID=Europe/Amsterdam:20280202T190000
DTEND;TZID=Europe/Amsterdam:20280202T193000
DTSTAMP:20260421T110436
CREATED:20251102T203257Z
LAST-MODIFIED:20251102T203332Z
UID:10004318-1833130800-1833132600@bhaktimarga.nl
SUMMARY:SANSKRIT BEOEFENEN
DESCRIPTION:
URL:https://bhaktimarga.nl/event/sanskrit-beoefenen-2/2028-02-02/
CATEGORIES:Kennis
ATTACH;FMTTYPE=image/jpeg:https://bhaktimarga.nl/wp-content/uploads/2025/11/sanskriet-oefenen-online-elke-week.jpg
ORGANIZER;CN="Harishchand":MAILTO:info@bhaktimarga.nl
END:VEVENT
BEGIN:VEVENT
DTSTART;TZID=Europe/Amsterdam:20280208T190000
DTEND;TZID=Europe/Amsterdam:20280208T192000
DTSTAMP:20260421T110436
CREATED:20251102T202435Z
LAST-MODIFIED:20251102T202520Z
UID:10004038-1833649200-1833650400@bhaktimarga.nl
SUMMARY:BHAGAVAD GITA EXPRESS
DESCRIPTION:Wil je meer informatie\, scan dan de QR code om naar de Telegram chat “Bhagavad Gita Express” te gaan of contacteer Manay Das (contact gegevens hieronder).
URL:https://bhaktimarga.nl/event/bhagavad-gita-express-15-2/2028-02-08/
CATEGORIES:Kennis
ATTACH;FMTTYPE=image/jpeg:https://bhaktimarga.nl/wp-content/uploads/2024/12/Bhagavad-Gita-Express.jpg
END:VEVENT
BEGIN:VEVENT
DTSTART;TZID=Europe/Amsterdam:20280209T190000
DTEND;TZID=Europe/Amsterdam:20280209T193000
DTSTAMP:20260421T110436
CREATED:20251102T203257Z
LAST-MODIFIED:20251102T203332Z
UID:10004319-1833735600-1833737400@bhaktimarga.nl
SUMMARY:SANSKRIT BEOEFENEN
DESCRIPTION:
URL:https://bhaktimarga.nl/event/sanskrit-beoefenen-2/2028-02-09/
CATEGORIES:Kennis
ATTACH;FMTTYPE=image/jpeg:https://bhaktimarga.nl/wp-content/uploads/2025/11/sanskriet-oefenen-online-elke-week.jpg
ORGANIZER;CN="Harishchand":MAILTO:info@bhaktimarga.nl
END:VEVENT
BEGIN:VEVENT
DTSTART;TZID=Europe/Amsterdam:20280215T190000
DTEND;TZID=Europe/Amsterdam:20280215T192000
DTSTAMP:20260421T110436
CREATED:20251102T202435Z
LAST-MODIFIED:20251102T202520Z
UID:10004039-1834254000-1834255200@bhaktimarga.nl
SUMMARY:BHAGAVAD GITA EXPRESS
DESCRIPTION:Wil je meer informatie\, scan dan de QR code om naar de Telegram chat “Bhagavad Gita Express” te gaan of contacteer Manay Das (contact gegevens hieronder).
URL:https://bhaktimarga.nl/event/bhagavad-gita-express-15-2/2028-02-15/
CATEGORIES:Kennis
ATTACH;FMTTYPE=image/jpeg:https://bhaktimarga.nl/wp-content/uploads/2024/12/Bhagavad-Gita-Express.jpg
END:VEVENT
BEGIN:VEVENT
DTSTART;TZID=Europe/Amsterdam:20280216T190000
DTEND;TZID=Europe/Amsterdam:20280216T193000
DTSTAMP:20260421T110436
CREATED:20251102T203257Z
LAST-MODIFIED:20251102T203332Z
UID:10004320-1834340400-1834342200@bhaktimarga.nl
SUMMARY:SANSKRIT BEOEFENEN
DESCRIPTION:
URL:https://bhaktimarga.nl/event/sanskrit-beoefenen-2/2028-02-16/
CATEGORIES:Kennis
ATTACH;FMTTYPE=image/jpeg:https://bhaktimarga.nl/wp-content/uploads/2025/11/sanskriet-oefenen-online-elke-week.jpg
ORGANIZER;CN="Harishchand":MAILTO:info@bhaktimarga.nl
END:VEVENT
BEGIN:VEVENT
DTSTART;TZID=Europe/Amsterdam:20280222T190000
DTEND;TZID=Europe/Amsterdam:20280222T192000
DTSTAMP:20260421T110437
CREATED:20251102T202435Z
LAST-MODIFIED:20251102T202520Z
UID:10004040-1834858800-1834860000@bhaktimarga.nl
SUMMARY:BHAGAVAD GITA EXPRESS
DESCRIPTION:Wil je meer informatie\, scan dan de QR code om naar de Telegram chat “Bhagavad Gita Express” te gaan of contacteer Manay Das (contact gegevens hieronder).
URL:https://bhaktimarga.nl/event/bhagavad-gita-express-15-2/2028-02-22/
CATEGORIES:Kennis
ATTACH;FMTTYPE=image/jpeg:https://bhaktimarga.nl/wp-content/uploads/2024/12/Bhagavad-Gita-Express.jpg
END:VEVENT
BEGIN:VEVENT
DTSTART;TZID=Europe/Amsterdam:20280223T190000
DTEND;TZID=Europe/Amsterdam:20280223T193000
DTSTAMP:20260421T110437
CREATED:20251102T203257Z
LAST-MODIFIED:20251102T203332Z
UID:10004321-1834945200-1834947000@bhaktimarga.nl
SUMMARY:SANSKRIT BEOEFENEN
DESCRIPTION:
URL:https://bhaktimarga.nl/event/sanskrit-beoefenen-2/2028-02-23/
CATEGORIES:Kennis
ATTACH;FMTTYPE=image/jpeg:https://bhaktimarga.nl/wp-content/uploads/2025/11/sanskriet-oefenen-online-elke-week.jpg
ORGANIZER;CN="Harishchand":MAILTO:info@bhaktimarga.nl
END:VEVENT
BEGIN:VEVENT
DTSTART;TZID=Europe/Amsterdam:20280229T190000
DTEND;TZID=Europe/Amsterdam:20280229T192000
DTSTAMP:20260421T110437
CREATED:20251102T202435Z
LAST-MODIFIED:20251102T202520Z
UID:10004041-1835463600-1835464800@bhaktimarga.nl
SUMMARY:BHAGAVAD GITA EXPRESS
DESCRIPTION:Wil je meer informatie\, scan dan de QR code om naar de Telegram chat “Bhagavad Gita Express” te gaan of contacteer Manay Das (contact gegevens hieronder).
URL:https://bhaktimarga.nl/event/bhagavad-gita-express-15-2/2028-02-29/
CATEGORIES:Kennis
ATTACH;FMTTYPE=image/jpeg:https://bhaktimarga.nl/wp-content/uploads/2024/12/Bhagavad-Gita-Express.jpg
END:VEVENT
BEGIN:VEVENT
DTSTART;TZID=Europe/Amsterdam:20280301T190000
DTEND;TZID=Europe/Amsterdam:20280301T193000
DTSTAMP:20260421T110437
CREATED:20251102T203257Z
LAST-MODIFIED:20251102T203332Z
UID:10004322-1835550000-1835551800@bhaktimarga.nl
SUMMARY:SANSKRIT BEOEFENEN
DESCRIPTION:
URL:https://bhaktimarga.nl/event/sanskrit-beoefenen-2/2028-03-01/
CATEGORIES:Kennis
ATTACH;FMTTYPE=image/jpeg:https://bhaktimarga.nl/wp-content/uploads/2025/11/sanskriet-oefenen-online-elke-week.jpg
ORGANIZER;CN="Harishchand":MAILTO:info@bhaktimarga.nl
END:VEVENT
BEGIN:VEVENT
DTSTART;TZID=Europe/Amsterdam:20280307T190000
DTEND;TZID=Europe/Amsterdam:20280307T192000
DTSTAMP:20260421T110437
CREATED:20251102T202435Z
LAST-MODIFIED:20251102T202520Z
UID:10004042-1836068400-1836069600@bhaktimarga.nl
SUMMARY:BHAGAVAD GITA EXPRESS
DESCRIPTION:Wil je meer informatie\, scan dan de QR code om naar de Telegram chat “Bhagavad Gita Express” te gaan of contacteer Manay Das (contact gegevens hieronder).
URL:https://bhaktimarga.nl/event/bhagavad-gita-express-15-2/2028-03-07/
CATEGORIES:Kennis
ATTACH;FMTTYPE=image/jpeg:https://bhaktimarga.nl/wp-content/uploads/2024/12/Bhagavad-Gita-Express.jpg
END:VEVENT
BEGIN:VEVENT
DTSTART;TZID=Europe/Amsterdam:20280307T190000
DTEND;TZID=Europe/Amsterdam:20280307T210000
DTSTAMP:20260421T110437
CREATED:20260110T182846Z
LAST-MODIFIED:20260202T144301Z
UID:10004603-1836068400-1836075600@bhaktimarga.nl
SUMMARY:STUDIECIRKEL TADATMYA VEDANTA
DESCRIPTION:
URL:https://bhaktimarga.nl/event/studiecirkel-tadatmya-vedanta/2028-03-07/
CATEGORIES:Kennis
ATTACH;FMTTYPE=image/jpeg:https://bhaktimarga.nl/wp-content/uploads/2026/01/BMNL-studycirkel-Tadatmya-vedanta.jpg
END:VEVENT
BEGIN:VEVENT
DTSTART;TZID=Europe/Amsterdam:20280308T190000
DTEND;TZID=Europe/Amsterdam:20280308T193000
DTSTAMP:20260421T110437
CREATED:20251102T203257Z
LAST-MODIFIED:20251102T203332Z
UID:10004323-1836154800-1836156600@bhaktimarga.nl
SUMMARY:SANSKRIT BEOEFENEN
DESCRIPTION:
URL:https://bhaktimarga.nl/event/sanskrit-beoefenen-2/2028-03-08/
CATEGORIES:Kennis
ATTACH;FMTTYPE=image/jpeg:https://bhaktimarga.nl/wp-content/uploads/2025/11/sanskriet-oefenen-online-elke-week.jpg
ORGANIZER;CN="Harishchand":MAILTO:info@bhaktimarga.nl
END:VEVENT
BEGIN:VEVENT
DTSTART;TZID=Europe/Amsterdam:20280314T190000
DTEND;TZID=Europe/Amsterdam:20280314T192000
DTSTAMP:20260421T110437
CREATED:20251102T202435Z
LAST-MODIFIED:20251102T202520Z
UID:10004043-1836673200-1836674400@bhaktimarga.nl
SUMMARY:BHAGAVAD GITA EXPRESS
DESCRIPTION:Wil je meer informatie\, scan dan de QR code om naar de Telegram chat “Bhagavad Gita Express” te gaan of contacteer Manay Das (contact gegevens hieronder).
URL:https://bhaktimarga.nl/event/bhagavad-gita-express-15-2/2028-03-14/
CATEGORIES:Kennis
ATTACH;FMTTYPE=image/jpeg:https://bhaktimarga.nl/wp-content/uploads/2024/12/Bhagavad-Gita-Express.jpg
END:VEVENT
END:VCALENDAR