BEGIN:VCALENDAR
VERSION:2.0
PRODID:-//Bhakti Marga Nederland - ECPv6.15.20//NONSGML v1.0//EN
CALSCALE:GREGORIAN
METHOD:PUBLISH
X-WR-CALNAME:Bhakti Marga Nederland
X-ORIGINAL-URL:https://bhaktimarga.nl
X-WR-CALDESC:Events for Bhakti Marga Nederland
REFRESH-INTERVAL;VALUE=DURATION:PT1H
X-Robots-Tag:noindex
X-PUBLISHED-TTL:PT1H
BEGIN:VTIMEZONE
TZID:Europe/Amsterdam
BEGIN:DAYLIGHT
TZOFFSETFROM:+0100
TZOFFSETTO:+0200
TZNAME:CEST
DTSTART:20250330T010000
END:DAYLIGHT
BEGIN:STANDARD
TZOFFSETFROM:+0200
TZOFFSETTO:+0100
TZNAME:CET
DTSTART:20251026T010000
END:STANDARD
BEGIN:DAYLIGHT
TZOFFSETFROM:+0100
TZOFFSETTO:+0200
TZNAME:CEST
DTSTART:20260329T010000
END:DAYLIGHT
BEGIN:STANDARD
TZOFFSETFROM:+0200
TZOFFSETTO:+0100
TZNAME:CET
DTSTART:20261025T010000
END:STANDARD
BEGIN:DAYLIGHT
TZOFFSETFROM:+0100
TZOFFSETTO:+0200
TZNAME:CEST
DTSTART:20270328T010000
END:DAYLIGHT
BEGIN:STANDARD
TZOFFSETFROM:+0200
TZOFFSETTO:+0100
TZNAME:CET
DTSTART:20271031T010000
END:STANDARD
BEGIN:DAYLIGHT
TZOFFSETFROM:+0100
TZOFFSETTO:+0200
TZNAME:CEST
DTSTART:20280326T010000
END:DAYLIGHT
BEGIN:STANDARD
TZOFFSETFROM:+0200
TZOFFSETTO:+0100
TZNAME:CET
DTSTART:20281029T010000
END:STANDARD
END:VTIMEZONE
BEGIN:VEVENT
DTSTART;TZID=Europe/Amsterdam:20261201T190000
DTEND;TZID=Europe/Amsterdam:20261201T210000
DTSTAMP:20260420T194536
CREATED:20260110T182846Z
LAST-MODIFIED:20260202T144301Z
UID:10004588-1796151600-1796158800@bhaktimarga.nl
SUMMARY:STUDIECIRKEL TADATMYA VEDANTA
DESCRIPTION:
URL:https://bhaktimarga.nl/event/studiecirkel-tadatmya-vedanta/2026-12-01/
CATEGORIES:Kennis
ATTACH;FMTTYPE=image/jpeg:https://bhaktimarga.nl/wp-content/uploads/2026/01/BMNL-studycirkel-Tadatmya-vedanta.jpg
END:VEVENT
BEGIN:VEVENT
DTSTART;TZID=Europe/Amsterdam:20261202T190000
DTEND;TZID=Europe/Amsterdam:20261202T193000
DTSTAMP:20260420T194536
CREATED:20251102T203257Z
LAST-MODIFIED:20251102T203332Z
UID:10004257-1796238000-1796239800@bhaktimarga.nl
SUMMARY:SANSKRIT BEOEFENEN
DESCRIPTION:
URL:https://bhaktimarga.nl/event/sanskrit-beoefenen-2/2026-12-02/
CATEGORIES:Kennis
ATTACH;FMTTYPE=image/jpeg:https://bhaktimarga.nl/wp-content/uploads/2025/11/sanskriet-oefenen-online-elke-week.jpg
ORGANIZER;CN="Harishchand":MAILTO:info@bhaktimarga.nl
END:VEVENT
BEGIN:VEVENT
DTSTART;TZID=Europe/Amsterdam:20261208T190000
DTEND;TZID=Europe/Amsterdam:20261208T192000
DTSTAMP:20260420T194536
CREATED:20251102T202435Z
LAST-MODIFIED:20251102T202520Z
UID:10003977-1796756400-1796757600@bhaktimarga.nl
SUMMARY:BHAGAVAD GITA EXPRESS
DESCRIPTION:Wil je meer informatie\, scan dan de QR code om naar de Telegram chat “Bhagavad Gita Express” te gaan of contacteer Manay Das (contact gegevens hieronder).
URL:https://bhaktimarga.nl/event/bhagavad-gita-express-15-2/2026-12-08/
CATEGORIES:Kennis
ATTACH;FMTTYPE=image/jpeg:https://bhaktimarga.nl/wp-content/uploads/2024/12/Bhagavad-Gita-Express.jpg
END:VEVENT
BEGIN:VEVENT
DTSTART;TZID=Europe/Amsterdam:20261209T190000
DTEND;TZID=Europe/Amsterdam:20261209T193000
DTSTAMP:20260420T194536
CREATED:20251102T203257Z
LAST-MODIFIED:20251102T203332Z
UID:10004258-1796842800-1796844600@bhaktimarga.nl
SUMMARY:SANSKRIT BEOEFENEN
DESCRIPTION:
URL:https://bhaktimarga.nl/event/sanskrit-beoefenen-2/2026-12-09/
CATEGORIES:Kennis
ATTACH;FMTTYPE=image/jpeg:https://bhaktimarga.nl/wp-content/uploads/2025/11/sanskriet-oefenen-online-elke-week.jpg
ORGANIZER;CN="Harishchand":MAILTO:info@bhaktimarga.nl
END:VEVENT
BEGIN:VEVENT
DTSTART;TZID=Europe/Amsterdam:20261215T190000
DTEND;TZID=Europe/Amsterdam:20261215T192000
DTSTAMP:20260420T194536
CREATED:20251102T202435Z
LAST-MODIFIED:20251102T202520Z
UID:10003978-1797361200-1797362400@bhaktimarga.nl
SUMMARY:BHAGAVAD GITA EXPRESS
DESCRIPTION:Wil je meer informatie\, scan dan de QR code om naar de Telegram chat “Bhagavad Gita Express” te gaan of contacteer Manay Das (contact gegevens hieronder).
URL:https://bhaktimarga.nl/event/bhagavad-gita-express-15-2/2026-12-15/
CATEGORIES:Kennis
ATTACH;FMTTYPE=image/jpeg:https://bhaktimarga.nl/wp-content/uploads/2024/12/Bhagavad-Gita-Express.jpg
END:VEVENT
BEGIN:VEVENT
DTSTART;TZID=Europe/Amsterdam:20261216T190000
DTEND;TZID=Europe/Amsterdam:20261216T193000
DTSTAMP:20260420T194536
CREATED:20251102T203257Z
LAST-MODIFIED:20251102T203332Z
UID:10004259-1797447600-1797449400@bhaktimarga.nl
SUMMARY:SANSKRIT BEOEFENEN
DESCRIPTION:
URL:https://bhaktimarga.nl/event/sanskrit-beoefenen-2/2026-12-16/
CATEGORIES:Kennis
ATTACH;FMTTYPE=image/jpeg:https://bhaktimarga.nl/wp-content/uploads/2025/11/sanskriet-oefenen-online-elke-week.jpg
ORGANIZER;CN="Harishchand":MAILTO:info@bhaktimarga.nl
END:VEVENT
BEGIN:VEVENT
DTSTART;TZID=Europe/Amsterdam:20261222T190000
DTEND;TZID=Europe/Amsterdam:20261222T192000
DTSTAMP:20260420T194536
CREATED:20251102T202435Z
LAST-MODIFIED:20251102T202520Z
UID:10003979-1797966000-1797967200@bhaktimarga.nl
SUMMARY:BHAGAVAD GITA EXPRESS
DESCRIPTION:Wil je meer informatie\, scan dan de QR code om naar de Telegram chat “Bhagavad Gita Express” te gaan of contacteer Manay Das (contact gegevens hieronder).
URL:https://bhaktimarga.nl/event/bhagavad-gita-express-15-2/2026-12-22/
CATEGORIES:Kennis
ATTACH;FMTTYPE=image/jpeg:https://bhaktimarga.nl/wp-content/uploads/2024/12/Bhagavad-Gita-Express.jpg
END:VEVENT
BEGIN:VEVENT
DTSTART;TZID=Europe/Amsterdam:20261223T190000
DTEND;TZID=Europe/Amsterdam:20261223T193000
DTSTAMP:20260420T194536
CREATED:20251102T203257Z
LAST-MODIFIED:20251102T203332Z
UID:10004260-1798052400-1798054200@bhaktimarga.nl
SUMMARY:SANSKRIT BEOEFENEN
DESCRIPTION:
URL:https://bhaktimarga.nl/event/sanskrit-beoefenen-2/2026-12-23/
CATEGORIES:Kennis
ATTACH;FMTTYPE=image/jpeg:https://bhaktimarga.nl/wp-content/uploads/2025/11/sanskriet-oefenen-online-elke-week.jpg
ORGANIZER;CN="Harishchand":MAILTO:info@bhaktimarga.nl
END:VEVENT
BEGIN:VEVENT
DTSTART;TZID=Europe/Amsterdam:20261229T190000
DTEND;TZID=Europe/Amsterdam:20261229T192000
DTSTAMP:20260420T194536
CREATED:20251102T202435Z
LAST-MODIFIED:20251102T202520Z
UID:10003980-1798570800-1798572000@bhaktimarga.nl
SUMMARY:BHAGAVAD GITA EXPRESS
DESCRIPTION:Wil je meer informatie\, scan dan de QR code om naar de Telegram chat “Bhagavad Gita Express” te gaan of contacteer Manay Das (contact gegevens hieronder).
URL:https://bhaktimarga.nl/event/bhagavad-gita-express-15-2/2026-12-29/
CATEGORIES:Kennis
ATTACH;FMTTYPE=image/jpeg:https://bhaktimarga.nl/wp-content/uploads/2024/12/Bhagavad-Gita-Express.jpg
END:VEVENT
BEGIN:VEVENT
DTSTART;TZID=Europe/Amsterdam:20261230T190000
DTEND;TZID=Europe/Amsterdam:20261230T193000
DTSTAMP:20260420T194536
CREATED:20251102T203257Z
LAST-MODIFIED:20251102T203332Z
UID:10004261-1798657200-1798659000@bhaktimarga.nl
SUMMARY:SANSKRIT BEOEFENEN
DESCRIPTION:
URL:https://bhaktimarga.nl/event/sanskrit-beoefenen-2/2026-12-30/
CATEGORIES:Kennis
ATTACH;FMTTYPE=image/jpeg:https://bhaktimarga.nl/wp-content/uploads/2025/11/sanskriet-oefenen-online-elke-week.jpg
ORGANIZER;CN="Harishchand":MAILTO:info@bhaktimarga.nl
END:VEVENT
BEGIN:VEVENT
DTSTART;TZID=Europe/Amsterdam:20270105T190000
DTEND;TZID=Europe/Amsterdam:20270105T192000
DTSTAMP:20260420T194536
CREATED:20251102T202435Z
LAST-MODIFIED:20251102T202520Z
UID:10003981-1799175600-1799176800@bhaktimarga.nl
SUMMARY:BHAGAVAD GITA EXPRESS
DESCRIPTION:Wil je meer informatie\, scan dan de QR code om naar de Telegram chat “Bhagavad Gita Express” te gaan of contacteer Manay Das (contact gegevens hieronder).
URL:https://bhaktimarga.nl/event/bhagavad-gita-express-15-2/2027-01-05/
CATEGORIES:Kennis
ATTACH;FMTTYPE=image/jpeg:https://bhaktimarga.nl/wp-content/uploads/2024/12/Bhagavad-Gita-Express.jpg
END:VEVENT
BEGIN:VEVENT
DTSTART;TZID=Europe/Amsterdam:20270105T190000
DTEND;TZID=Europe/Amsterdam:20270105T210000
DTSTAMP:20260420T194536
CREATED:20260110T182846Z
LAST-MODIFIED:20260202T144301Z
UID:10004589-1799175600-1799182800@bhaktimarga.nl
SUMMARY:STUDIECIRKEL TADATMYA VEDANTA
DESCRIPTION:
URL:https://bhaktimarga.nl/event/studiecirkel-tadatmya-vedanta/2027-01-05/
CATEGORIES:Kennis
ATTACH;FMTTYPE=image/jpeg:https://bhaktimarga.nl/wp-content/uploads/2026/01/BMNL-studycirkel-Tadatmya-vedanta.jpg
END:VEVENT
BEGIN:VEVENT
DTSTART;TZID=Europe/Amsterdam:20270106T190000
DTEND;TZID=Europe/Amsterdam:20270106T193000
DTSTAMP:20260420T194536
CREATED:20251102T203257Z
LAST-MODIFIED:20251102T203332Z
UID:10004262-1799262000-1799263800@bhaktimarga.nl
SUMMARY:SANSKRIT BEOEFENEN
DESCRIPTION:
URL:https://bhaktimarga.nl/event/sanskrit-beoefenen-2/2027-01-06/
CATEGORIES:Kennis
ATTACH;FMTTYPE=image/jpeg:https://bhaktimarga.nl/wp-content/uploads/2025/11/sanskriet-oefenen-online-elke-week.jpg
ORGANIZER;CN="Harishchand":MAILTO:info@bhaktimarga.nl
END:VEVENT
BEGIN:VEVENT
DTSTART;TZID=Europe/Amsterdam:20270112T190000
DTEND;TZID=Europe/Amsterdam:20270112T192000
DTSTAMP:20260420T194536
CREATED:20251102T202435Z
LAST-MODIFIED:20251102T202520Z
UID:10003982-1799780400-1799781600@bhaktimarga.nl
SUMMARY:BHAGAVAD GITA EXPRESS
DESCRIPTION:Wil je meer informatie\, scan dan de QR code om naar de Telegram chat “Bhagavad Gita Express” te gaan of contacteer Manay Das (contact gegevens hieronder).
URL:https://bhaktimarga.nl/event/bhagavad-gita-express-15-2/2027-01-12/
CATEGORIES:Kennis
ATTACH;FMTTYPE=image/jpeg:https://bhaktimarga.nl/wp-content/uploads/2024/12/Bhagavad-Gita-Express.jpg
END:VEVENT
BEGIN:VEVENT
DTSTART;TZID=Europe/Amsterdam:20270113T190000
DTEND;TZID=Europe/Amsterdam:20270113T193000
DTSTAMP:20260420T194536
CREATED:20251102T203257Z
LAST-MODIFIED:20251102T203332Z
UID:10004263-1799866800-1799868600@bhaktimarga.nl
SUMMARY:SANSKRIT BEOEFENEN
DESCRIPTION:
URL:https://bhaktimarga.nl/event/sanskrit-beoefenen-2/2027-01-13/
CATEGORIES:Kennis
ATTACH;FMTTYPE=image/jpeg:https://bhaktimarga.nl/wp-content/uploads/2025/11/sanskriet-oefenen-online-elke-week.jpg
ORGANIZER;CN="Harishchand":MAILTO:info@bhaktimarga.nl
END:VEVENT
BEGIN:VEVENT
DTSTART;TZID=Europe/Amsterdam:20270119T190000
DTEND;TZID=Europe/Amsterdam:20270119T192000
DTSTAMP:20260420T194536
CREATED:20251102T202435Z
LAST-MODIFIED:20251102T202520Z
UID:10003983-1800385200-1800386400@bhaktimarga.nl
SUMMARY:BHAGAVAD GITA EXPRESS
DESCRIPTION:Wil je meer informatie\, scan dan de QR code om naar de Telegram chat “Bhagavad Gita Express” te gaan of contacteer Manay Das (contact gegevens hieronder).
URL:https://bhaktimarga.nl/event/bhagavad-gita-express-15-2/2027-01-19/
CATEGORIES:Kennis
ATTACH;FMTTYPE=image/jpeg:https://bhaktimarga.nl/wp-content/uploads/2024/12/Bhagavad-Gita-Express.jpg
END:VEVENT
BEGIN:VEVENT
DTSTART;TZID=Europe/Amsterdam:20270120T190000
DTEND;TZID=Europe/Amsterdam:20270120T193000
DTSTAMP:20260420T194536
CREATED:20251102T203257Z
LAST-MODIFIED:20251102T203332Z
UID:10004264-1800471600-1800473400@bhaktimarga.nl
SUMMARY:SANSKRIT BEOEFENEN
DESCRIPTION:
URL:https://bhaktimarga.nl/event/sanskrit-beoefenen-2/2027-01-20/
CATEGORIES:Kennis
ATTACH;FMTTYPE=image/jpeg:https://bhaktimarga.nl/wp-content/uploads/2025/11/sanskriet-oefenen-online-elke-week.jpg
ORGANIZER;CN="Harishchand":MAILTO:info@bhaktimarga.nl
END:VEVENT
BEGIN:VEVENT
DTSTART;TZID=Europe/Amsterdam:20270126T190000
DTEND;TZID=Europe/Amsterdam:20270126T192000
DTSTAMP:20260420T194536
CREATED:20251102T202435Z
LAST-MODIFIED:20251102T202520Z
UID:10003984-1800990000-1800991200@bhaktimarga.nl
SUMMARY:BHAGAVAD GITA EXPRESS
DESCRIPTION:Wil je meer informatie\, scan dan de QR code om naar de Telegram chat “Bhagavad Gita Express” te gaan of contacteer Manay Das (contact gegevens hieronder).
URL:https://bhaktimarga.nl/event/bhagavad-gita-express-15-2/2027-01-26/
CATEGORIES:Kennis
ATTACH;FMTTYPE=image/jpeg:https://bhaktimarga.nl/wp-content/uploads/2024/12/Bhagavad-Gita-Express.jpg
END:VEVENT
BEGIN:VEVENT
DTSTART;TZID=Europe/Amsterdam:20270127T190000
DTEND;TZID=Europe/Amsterdam:20270127T193000
DTSTAMP:20260420T194536
CREATED:20251102T203257Z
LAST-MODIFIED:20251102T203332Z
UID:10004265-1801076400-1801078200@bhaktimarga.nl
SUMMARY:SANSKRIT BEOEFENEN
DESCRIPTION:
URL:https://bhaktimarga.nl/event/sanskrit-beoefenen-2/2027-01-27/
CATEGORIES:Kennis
ATTACH;FMTTYPE=image/jpeg:https://bhaktimarga.nl/wp-content/uploads/2025/11/sanskriet-oefenen-online-elke-week.jpg
ORGANIZER;CN="Harishchand":MAILTO:info@bhaktimarga.nl
END:VEVENT
BEGIN:VEVENT
DTSTART;TZID=Europe/Amsterdam:20270202T190000
DTEND;TZID=Europe/Amsterdam:20270202T192000
DTSTAMP:20260420T194536
CREATED:20251102T202435Z
LAST-MODIFIED:20251102T202520Z
UID:10003985-1801594800-1801596000@bhaktimarga.nl
SUMMARY:BHAGAVAD GITA EXPRESS
DESCRIPTION:Wil je meer informatie\, scan dan de QR code om naar de Telegram chat “Bhagavad Gita Express” te gaan of contacteer Manay Das (contact gegevens hieronder).
URL:https://bhaktimarga.nl/event/bhagavad-gita-express-15-2/2027-02-02/
CATEGORIES:Kennis
ATTACH;FMTTYPE=image/jpeg:https://bhaktimarga.nl/wp-content/uploads/2024/12/Bhagavad-Gita-Express.jpg
END:VEVENT
BEGIN:VEVENT
DTSTART;TZID=Europe/Amsterdam:20270202T190000
DTEND;TZID=Europe/Amsterdam:20270202T210000
DTSTAMP:20260420T194536
CREATED:20260110T182846Z
LAST-MODIFIED:20260202T144301Z
UID:10004590-1801594800-1801602000@bhaktimarga.nl
SUMMARY:STUDIECIRKEL TADATMYA VEDANTA
DESCRIPTION:
URL:https://bhaktimarga.nl/event/studiecirkel-tadatmya-vedanta/2027-02-02/
CATEGORIES:Kennis
ATTACH;FMTTYPE=image/jpeg:https://bhaktimarga.nl/wp-content/uploads/2026/01/BMNL-studycirkel-Tadatmya-vedanta.jpg
END:VEVENT
BEGIN:VEVENT
DTSTART;TZID=Europe/Amsterdam:20270203T190000
DTEND;TZID=Europe/Amsterdam:20270203T193000
DTSTAMP:20260420T194536
CREATED:20251102T203257Z
LAST-MODIFIED:20251102T203332Z
UID:10004266-1801681200-1801683000@bhaktimarga.nl
SUMMARY:SANSKRIT BEOEFENEN
DESCRIPTION:
URL:https://bhaktimarga.nl/event/sanskrit-beoefenen-2/2027-02-03/
CATEGORIES:Kennis
ATTACH;FMTTYPE=image/jpeg:https://bhaktimarga.nl/wp-content/uploads/2025/11/sanskriet-oefenen-online-elke-week.jpg
ORGANIZER;CN="Harishchand":MAILTO:info@bhaktimarga.nl
END:VEVENT
BEGIN:VEVENT
DTSTART;TZID=Europe/Amsterdam:20270209T190000
DTEND;TZID=Europe/Amsterdam:20270209T192000
DTSTAMP:20260420T194537
CREATED:20251102T202435Z
LAST-MODIFIED:20251102T202520Z
UID:10003986-1802199600-1802200800@bhaktimarga.nl
SUMMARY:BHAGAVAD GITA EXPRESS
DESCRIPTION:Wil je meer informatie\, scan dan de QR code om naar de Telegram chat “Bhagavad Gita Express” te gaan of contacteer Manay Das (contact gegevens hieronder).
URL:https://bhaktimarga.nl/event/bhagavad-gita-express-15-2/2027-02-09/
CATEGORIES:Kennis
ATTACH;FMTTYPE=image/jpeg:https://bhaktimarga.nl/wp-content/uploads/2024/12/Bhagavad-Gita-Express.jpg
END:VEVENT
BEGIN:VEVENT
DTSTART;TZID=Europe/Amsterdam:20270210T190000
DTEND;TZID=Europe/Amsterdam:20270210T193000
DTSTAMP:20260420T194537
CREATED:20251102T203257Z
LAST-MODIFIED:20251102T203332Z
UID:10004267-1802286000-1802287800@bhaktimarga.nl
SUMMARY:SANSKRIT BEOEFENEN
DESCRIPTION:
URL:https://bhaktimarga.nl/event/sanskrit-beoefenen-2/2027-02-10/
CATEGORIES:Kennis
ATTACH;FMTTYPE=image/jpeg:https://bhaktimarga.nl/wp-content/uploads/2025/11/sanskriet-oefenen-online-elke-week.jpg
ORGANIZER;CN="Harishchand":MAILTO:info@bhaktimarga.nl
END:VEVENT
BEGIN:VEVENT
DTSTART;TZID=Europe/Amsterdam:20270216T190000
DTEND;TZID=Europe/Amsterdam:20270216T192000
DTSTAMP:20260420T194537
CREATED:20251102T202435Z
LAST-MODIFIED:20251102T202520Z
UID:10003987-1802804400-1802805600@bhaktimarga.nl
SUMMARY:BHAGAVAD GITA EXPRESS
DESCRIPTION:Wil je meer informatie\, scan dan de QR code om naar de Telegram chat “Bhagavad Gita Express” te gaan of contacteer Manay Das (contact gegevens hieronder).
URL:https://bhaktimarga.nl/event/bhagavad-gita-express-15-2/2027-02-16/
CATEGORIES:Kennis
ATTACH;FMTTYPE=image/jpeg:https://bhaktimarga.nl/wp-content/uploads/2024/12/Bhagavad-Gita-Express.jpg
END:VEVENT
BEGIN:VEVENT
DTSTART;TZID=Europe/Amsterdam:20270217T190000
DTEND;TZID=Europe/Amsterdam:20270217T193000
DTSTAMP:20260420T194537
CREATED:20251102T203257Z
LAST-MODIFIED:20251102T203332Z
UID:10004268-1802890800-1802892600@bhaktimarga.nl
SUMMARY:SANSKRIT BEOEFENEN
DESCRIPTION:
URL:https://bhaktimarga.nl/event/sanskrit-beoefenen-2/2027-02-17/
CATEGORIES:Kennis
ATTACH;FMTTYPE=image/jpeg:https://bhaktimarga.nl/wp-content/uploads/2025/11/sanskriet-oefenen-online-elke-week.jpg
ORGANIZER;CN="Harishchand":MAILTO:info@bhaktimarga.nl
END:VEVENT
BEGIN:VEVENT
DTSTART;TZID=Europe/Amsterdam:20270223T190000
DTEND;TZID=Europe/Amsterdam:20270223T192000
DTSTAMP:20260420T194537
CREATED:20251102T202435Z
LAST-MODIFIED:20251102T202520Z
UID:10003988-1803409200-1803410400@bhaktimarga.nl
SUMMARY:BHAGAVAD GITA EXPRESS
DESCRIPTION:Wil je meer informatie\, scan dan de QR code om naar de Telegram chat “Bhagavad Gita Express” te gaan of contacteer Manay Das (contact gegevens hieronder).
URL:https://bhaktimarga.nl/event/bhagavad-gita-express-15-2/2027-02-23/
CATEGORIES:Kennis
ATTACH;FMTTYPE=image/jpeg:https://bhaktimarga.nl/wp-content/uploads/2024/12/Bhagavad-Gita-Express.jpg
END:VEVENT
BEGIN:VEVENT
DTSTART;TZID=Europe/Amsterdam:20270224T190000
DTEND;TZID=Europe/Amsterdam:20270224T193000
DTSTAMP:20260420T194537
CREATED:20251102T203257Z
LAST-MODIFIED:20251102T203332Z
UID:10004269-1803495600-1803497400@bhaktimarga.nl
SUMMARY:SANSKRIT BEOEFENEN
DESCRIPTION:
URL:https://bhaktimarga.nl/event/sanskrit-beoefenen-2/2027-02-24/
CATEGORIES:Kennis
ATTACH;FMTTYPE=image/jpeg:https://bhaktimarga.nl/wp-content/uploads/2025/11/sanskriet-oefenen-online-elke-week.jpg
ORGANIZER;CN="Harishchand":MAILTO:info@bhaktimarga.nl
END:VEVENT
BEGIN:VEVENT
DTSTART;TZID=Europe/Amsterdam:20270302T190000
DTEND;TZID=Europe/Amsterdam:20270302T192000
DTSTAMP:20260420T194537
CREATED:20251102T202435Z
LAST-MODIFIED:20251102T202520Z
UID:10003989-1804014000-1804015200@bhaktimarga.nl
SUMMARY:BHAGAVAD GITA EXPRESS
DESCRIPTION:Wil je meer informatie\, scan dan de QR code om naar de Telegram chat “Bhagavad Gita Express” te gaan of contacteer Manay Das (contact gegevens hieronder).
URL:https://bhaktimarga.nl/event/bhagavad-gita-express-15-2/2027-03-02/
CATEGORIES:Kennis
ATTACH;FMTTYPE=image/jpeg:https://bhaktimarga.nl/wp-content/uploads/2024/12/Bhagavad-Gita-Express.jpg
END:VEVENT
BEGIN:VEVENT
DTSTART;TZID=Europe/Amsterdam:20270302T190000
DTEND;TZID=Europe/Amsterdam:20270302T210000
DTSTAMP:20260420T194537
CREATED:20260110T182846Z
LAST-MODIFIED:20260202T144301Z
UID:10004591-1804014000-1804021200@bhaktimarga.nl
SUMMARY:STUDIECIRKEL TADATMYA VEDANTA
DESCRIPTION:
URL:https://bhaktimarga.nl/event/studiecirkel-tadatmya-vedanta/2027-03-02/
CATEGORIES:Kennis
ATTACH;FMTTYPE=image/jpeg:https://bhaktimarga.nl/wp-content/uploads/2026/01/BMNL-studycirkel-Tadatmya-vedanta.jpg
END:VEVENT
END:VCALENDAR