BEGIN:VCALENDAR
VERSION:2.0
PRODID:-//Bhakti Marga Nederland - ECPv6.15.20//NONSGML v1.0//EN
CALSCALE:GREGORIAN
METHOD:PUBLISH
X-WR-CALNAME:Bhakti Marga Nederland
X-ORIGINAL-URL:https://bhaktimarga.nl
X-WR-CALDESC:Events for Bhakti Marga Nederland
REFRESH-INTERVAL;VALUE=DURATION:PT1H
X-Robots-Tag:noindex
X-PUBLISHED-TTL:PT1H
BEGIN:VTIMEZONE
TZID:Europe/Amsterdam
BEGIN:DAYLIGHT
TZOFFSETFROM:+0100
TZOFFSETTO:+0200
TZNAME:CEST
DTSTART:20250330T010000
END:DAYLIGHT
BEGIN:STANDARD
TZOFFSETFROM:+0200
TZOFFSETTO:+0100
TZNAME:CET
DTSTART:20251026T010000
END:STANDARD
BEGIN:DAYLIGHT
TZOFFSETFROM:+0100
TZOFFSETTO:+0200
TZNAME:CEST
DTSTART:20260329T010000
END:DAYLIGHT
BEGIN:STANDARD
TZOFFSETFROM:+0200
TZOFFSETTO:+0100
TZNAME:CET
DTSTART:20261025T010000
END:STANDARD
BEGIN:DAYLIGHT
TZOFFSETFROM:+0100
TZOFFSETTO:+0200
TZNAME:CEST
DTSTART:20270328T010000
END:DAYLIGHT
BEGIN:STANDARD
TZOFFSETFROM:+0200
TZOFFSETTO:+0100
TZNAME:CET
DTSTART:20271031T010000
END:STANDARD
END:VTIMEZONE
BEGIN:VEVENT
DTSTART;TZID=Europe/Amsterdam:20260506T200000
DTEND;TZID=Europe/Amsterdam:20260506T210000
DTSTAMP:20260420T125203
CREATED:20260107T154452Z
LAST-MODIFIED:20260107T154731Z
UID:10004488-1778097600-1778101200@bhaktimarga.nl
SUMMARY:OM CHANTING ALMERE
DESCRIPTION:
URL:https://bhaktimarga.nl/event/om-chanting-almere-17/2026-05-06/
LOCATION:Buurtcentrum Parkwijk\, Haagbeukweg 42\, Almere\, Flevoland\, 1326 CP\, Netherlands
CATEGORIES:OMC
ATTACH;FMTTYPE=image/jpeg:https://bhaktimarga.nl/wp-content/uploads/2026/01/OMC-Almere-jan-tm-juli-2026.jpg
END:VEVENT
BEGIN:VEVENT
DTSTART;TZID=Europe/Amsterdam:20260610T200000
DTEND;TZID=Europe/Amsterdam:20260610T210000
DTSTAMP:20260420T125203
CREATED:20260107T154452Z
LAST-MODIFIED:20260107T154731Z
UID:10004489-1781121600-1781125200@bhaktimarga.nl
SUMMARY:OM CHANTING ALMERE
DESCRIPTION:
URL:https://bhaktimarga.nl/event/om-chanting-almere-17/2026-06-10/
LOCATION:Buurtcentrum Parkwijk\, Haagbeukweg 42\, Almere\, Flevoland\, 1326 CP\, Netherlands
CATEGORIES:OMC
ATTACH;FMTTYPE=image/jpeg:https://bhaktimarga.nl/wp-content/uploads/2026/01/OMC-Almere-jan-tm-juli-2026.jpg
END:VEVENT
BEGIN:VEVENT
DTSTART;TZID=Europe/Amsterdam:20260708T200000
DTEND;TZID=Europe/Amsterdam:20260708T210000
DTSTAMP:20260420T125203
CREATED:20260107T154452Z
LAST-MODIFIED:20260107T154731Z
UID:10004490-1783540800-1783544400@bhaktimarga.nl
SUMMARY:OM CHANTING ALMERE
DESCRIPTION:
URL:https://bhaktimarga.nl/event/om-chanting-almere-17/2026-07-08/
LOCATION:Buurtcentrum Parkwijk\, Haagbeukweg 42\, Almere\, Flevoland\, 1326 CP\, Netherlands
CATEGORIES:OMC
ATTACH;FMTTYPE=image/jpeg:https://bhaktimarga.nl/wp-content/uploads/2026/01/OMC-Almere-jan-tm-juli-2026.jpg
END:VEVENT
END:VCALENDAR